BEGIN:VCALENDAR
VERSION:2.0
PRODID:-//Manchester Community College NH - ECPv6.15.20//NONSGML v1.0//EN
CALSCALE:GREGORIAN
METHOD:PUBLISH
X-WR-CALNAME:Manchester Community College NH
X-ORIGINAL-URL:https://mccnh.edu
X-WR-CALDESC:Events for Manchester Community College NH
REFRESH-INTERVAL;VALUE=DURATION:PT1H
X-Robots-Tag:noindex
X-PUBLISHED-TTL:PT1H
BEGIN:VTIMEZONE
TZID:America/New_York
BEGIN:DAYLIGHT
TZOFFSETFROM:-0500
TZOFFSETTO:-0400
TZNAME:EDT
DTSTART:20240310T070000
END:DAYLIGHT
BEGIN:STANDARD
TZOFFSETFROM:-0400
TZOFFSETTO:-0500
TZNAME:EST
DTSTART:20241103T060000
END:STANDARD
BEGIN:DAYLIGHT
TZOFFSETFROM:-0500
TZOFFSETTO:-0400
TZNAME:EDT
DTSTART:20250309T070000
END:DAYLIGHT
BEGIN:STANDARD
TZOFFSETFROM:-0400
TZOFFSETTO:-0500
TZNAME:EST
DTSTART:20251102T060000
END:STANDARD
BEGIN:DAYLIGHT
TZOFFSETFROM:-0500
TZOFFSETTO:-0400
TZNAME:EDT
DTSTART:20260308T070000
END:DAYLIGHT
BEGIN:STANDARD
TZOFFSETFROM:-0400
TZOFFSETTO:-0500
TZNAME:EST
DTSTART:20261101T060000
END:STANDARD
END:VTIMEZONE
BEGIN:VEVENT
DTSTART;VALUE=DATE:20250616
DTEND;VALUE=DATE:20250617
DTSTAMP:20260425T062839
CREATED:20240729T185434Z
LAST-MODIFIED:20240729T185434Z
UID:10001882-1750032000-1750118399@mccnh.edu
SUMMARY:Second 8-Week Term Summer Classes begins
DESCRIPTION:
URL:https://mccnh.edu/event/second-8-week-term-summer-classes-begins/
CATEGORIES:Academic Calendar
END:VEVENT
BEGIN:VEVENT
DTSTART;VALUE=DATE:20250623
DTEND;VALUE=DATE:20250624
DTSTAMP:20260425T062839
CREATED:20240729T185432Z
LAST-MODIFIED:20240729T185432Z
UID:10001883-1750636800-1750723199@mccnh.edu
SUMMARY:Last day to add/drop a Second 8-Week Term Summer Class with a refund
DESCRIPTION:
URL:https://mccnh.edu/event/last-day-to-add-drop-a-second-8-week-term-summer-class-with-a-refund/
CATEGORIES:Academic Calendar
END:VEVENT
BEGIN:VEVENT
DTSTART;VALUE=DATE:20250624
DTEND;VALUE=DATE:20250625
DTSTAMP:20260425T062839
CREATED:20240729T185432Z
LAST-MODIFIED:20240729T185432Z
UID:10001878-1750723200-1750809599@mccnh.edu
SUMMARY:Last day to withdraw with “W” grade from a First 8-Week Term Summer Class
DESCRIPTION:
URL:https://mccnh.edu/event/last-day-to-withdraw-with-w-grade-from-a-first-8-week-term-summer-class/
CATEGORIES:Academic Calendar
END:VEVENT
BEGIN:VEVENT
DTSTART;VALUE=DATE:20250702
DTEND;VALUE=DATE:20250703
DTSTAMP:20260425T062839
CREATED:20240729T185431Z
LAST-MODIFIED:20240729T185431Z
UID:10001879-1751414400-1751500799@mccnh.edu
SUMMARY:Last day to withdraw with a “WP” or “WF” grade from a First 8-Week Term Summer Class
DESCRIPTION:
URL:https://mccnh.edu/event/last-day-to-withdraw-with-a-wp-or-wf-grade-from-a-first-8-week-term-summer-class/
CATEGORIES:Academic Calendar
END:VEVENT
BEGIN:VEVENT
DTSTART;VALUE=DATE:20250707
DTEND;VALUE=DATE:20250708
DTSTAMP:20260425T062839
CREATED:20240729T185429Z
LAST-MODIFIED:20240729T185429Z
UID:10001872-1751846400-1751932799@mccnh.edu
SUMMARY:Last day to withdraw with “W” grade from a 12-Week Term Summer Class
DESCRIPTION:
URL:https://mccnh.edu/event/last-day-to-withdraw-with-w-grade-from-a-12-week-term-summer-class/
CATEGORIES:Academic Calendar
END:VEVENT
BEGIN:VEVENT
DTSTART;VALUE=DATE:20250712
DTEND;VALUE=DATE:20250713
DTSTAMP:20260425T062839
CREATED:20240729T185428Z
LAST-MODIFIED:20240729T185428Z
UID:10001880-1752278400-1752364799@mccnh.edu
SUMMARY:First 8-Week Term Summer Classes end
DESCRIPTION:
URL:https://mccnh.edu/event/first-8-week-term-summer-classes-end/
CATEGORIES:Academic Calendar
END:VEVENT
BEGIN:VEVENT
DTSTART;VALUE=DATE:20250718
DTEND;VALUE=DATE:20250719
DTSTAMP:20260425T062839
CREATED:20240729T185426Z
LAST-MODIFIED:20240729T185426Z
UID:10001884-1752796800-1752883199@mccnh.edu
SUMMARY:Last day to withdraw with “W” grade from a Second 8-Week Term Summer Class
DESCRIPTION:
URL:https://mccnh.edu/event/last-day-to-withdraw-with-w-grade-from-a-second-8-week-term-summer-class/
CATEGORIES:Academic Calendar
END:VEVENT
BEGIN:VEVENT
DTSTART;VALUE=DATE:20250730
DTEND;VALUE=DATE:20250731
DTSTAMP:20260425T062839
CREATED:20240729T185425Z
LAST-MODIFIED:20240729T185425Z
UID:10001873-1753833600-1753919999@mccnh.edu
SUMMARY:Last day to withdraw with a “WP” or “WF” grade from a 12-Week Term Summer Class
DESCRIPTION:
URL:https://mccnh.edu/event/last-day-to-withdraw-with-a-wp-or-wf-grade-from-a-12-week-term-summer-class/
CATEGORIES:Academic Calendar
END:VEVENT
BEGIN:VEVENT
DTSTART;VALUE=DATE:20250730
DTEND;VALUE=DATE:20250731
DTSTAMP:20260425T062839
CREATED:20240729T185425Z
LAST-MODIFIED:20240729T185425Z
UID:10001885-1753833600-1753919999@mccnh.edu
SUMMARY:Last day to withdraw with a “WP” or “WF” grade from a Second 8-Week Summer Term Class
DESCRIPTION:
URL:https://mccnh.edu/event/last-day-to-withdraw-with-a-wp-or-wf-grade-from-a-second-8-week-summer-term-class/
CATEGORIES:Academic Calendar
END:VEVENT
BEGIN:VEVENT
DTSTART;VALUE=DATE:20250809
DTEND;VALUE=DATE:20250810
DTSTAMP:20260425T062839
CREATED:20240729T185423Z
LAST-MODIFIED:20240729T185423Z
UID:10001886-1754697600-1754783999@mccnh.edu
SUMMARY:Second 8-Week Term Summer Classes end
DESCRIPTION:
URL:https://mccnh.edu/event/second-8-week-term-summer-classes-end/
CATEGORIES:Academic Calendar
END:VEVENT
BEGIN:VEVENT
DTSTART;VALUE=DATE:20250809
DTEND;VALUE=DATE:20250810
DTSTAMP:20260425T062839
CREATED:20240729T185424Z
LAST-MODIFIED:20240729T185424Z
UID:10001874-1754697600-1754783999@mccnh.edu
SUMMARY:12-Week Term Summer Classes end
DESCRIPTION:
URL:https://mccnh.edu/event/12-week-term-summer-classes-end/
CATEGORIES:Academic Calendar
END:VEVENT
BEGIN:VEVENT
DTSTART;VALUE=DATE:20250825
DTEND;VALUE=DATE:20250826
DTSTAMP:20260425T062839
CREATED:20250407T152741Z
LAST-MODIFIED:20250407T152741Z
UID:10002108-1756080000-1756166399@mccnh.edu
SUMMARY:Fall Semester Classes Begin
DESCRIPTION:
URL:https://mccnh.edu/event/fall-semester-classes-begin-2/
CATEGORIES:Academic Calendar
END:VEVENT
BEGIN:VEVENT
DTSTART;VALUE=DATE:20250825
DTEND;VALUE=DATE:20250826
DTSTAMP:20260425T062839
CREATED:20250801T181312Z
LAST-MODIFIED:20250801T181635Z
UID:10002946-1756080000-1756166399@mccnh.edu
SUMMARY:Full 16-Week Term Fall Classes Begin
DESCRIPTION:
URL:https://mccnh.edu/event/16-week-term-fall-classes-begin/
CATEGORIES:Academic Calendar
END:VEVENT
BEGIN:VEVENT
DTSTART;VALUE=DATE:20250825
DTEND;VALUE=DATE:20250826
DTSTAMP:20260425T062839
CREATED:20250801T181553Z
LAST-MODIFIED:20250801T181553Z
UID:10002948-1756080000-1756166399@mccnh.edu
SUMMARY:First 8-Week Term Fall Classes Begin
DESCRIPTION:
URL:https://mccnh.edu/event/first-8-week-term-fall-classes-begin/
CATEGORIES:Academic Calendar
END:VEVENT
BEGIN:VEVENT
DTSTART;VALUE=DATE:20250901
DTEND;VALUE=DATE:20250902
DTSTAMP:20260425T062839
CREATED:20250407T152908Z
LAST-MODIFIED:20250805T165131Z
UID:10002109-1756684800-1756771199@mccnh.edu
SUMMARY:Labor Day Holiday – No Classes and Offices Closed
DESCRIPTION:
URL:https://mccnh.edu/event/labor-day-holiday-no-classes-and-offices-closed-2/
CATEGORIES:Academic Calendar,General Calendar
END:VEVENT
BEGIN:VEVENT
DTSTART;VALUE=DATE:20250902
DTEND;VALUE=DATE:20250903
DTSTAMP:20260425T062839
CREATED:20250407T153131Z
LAST-MODIFIED:20250407T153131Z
UID:10002110-1756771200-1756857599@mccnh.edu
SUMMARY:Last day to add a First 8-Week and 16-Week Term Fall Class without instructor’s permission
DESCRIPTION:
URL:https://mccnh.edu/event/last-day-to-add-a-first-8-week-and-16-week-term-fall-class-without-instructors-permission-2/
CATEGORIES:Academic Calendar
END:VEVENT
BEGIN:VEVENT
DTSTART;VALUE=DATE:20250902
DTEND;VALUE=DATE:20250903
DTSTAMP:20260425T062839
CREATED:20250805T170821Z
LAST-MODIFIED:20250805T170821Z
UID:10002955-1756771200-1756857599@mccnh.edu
SUMMARY:Last Day to Drop a First 8-Week Term Class with a Refund
DESCRIPTION:
URL:https://mccnh.edu/event/last-day-to-drop-a-first-8-week-term-class-with-a-refund/
CATEGORIES:Academic Calendar
END:VEVENT
BEGIN:VEVENT
DTSTART;VALUE=DATE:20250908
DTEND;VALUE=DATE:20250909
DTSTAMP:20260425T062839
CREATED:20250407T153249Z
LAST-MODIFIED:20250407T153249Z
UID:10002111-1757289600-1757375999@mccnh.edu
SUMMARY:Last day to drop a 16-Week Term Fall Class with a refund
DESCRIPTION:
URL:https://mccnh.edu/event/last-day-to-drop-a-16-week-term-fall-class-with-a-refund-2/
CATEGORIES:Academic Calendar
END:VEVENT
BEGIN:VEVENT
DTSTART;VALUE=DATE:20250912
DTEND;VALUE=DATE:20250913
DTSTAMP:20260425T062839
CREATED:20250805T170935Z
LAST-MODIFIED:20250805T170935Z
UID:10002956-1757635200-1757721599@mccnh.edu
SUMMARY:Last Day to Resolve "I" Grades from Summer 2025 Semester
DESCRIPTION:
URL:https://mccnh.edu/event/last-day-to-resolve-i-grades-from-summer-2025-semester-2/
CATEGORIES:Academic Calendar
END:VEVENT
BEGIN:VEVENT
DTSTART;VALUE=DATE:20250922
DTEND;VALUE=DATE:20250923
DTSTAMP:20260425T062839
CREATED:20250801T181236Z
LAST-MODIFIED:20250801T181236Z
UID:10002945-1758499200-1758585599@mccnh.edu
SUMMARY:12-Week Term Fall Classes Begin
DESCRIPTION:
URL:https://mccnh.edu/event/12-week-term-fall-classes-begin-2/
CATEGORIES:Academic Calendar
END:VEVENT
BEGIN:VEVENT
DTSTART;VALUE=DATE:20250929
DTEND;VALUE=DATE:20250930
DTSTAMP:20260425T062839
CREATED:20250805T171153Z
LAST-MODIFIED:20250805T171258Z
UID:10002957-1759104000-1759190399@mccnh.edu
SUMMARY:Last Day to Withdraw with "W" Grade from a First 8-Week Class
DESCRIPTION:
URL:https://mccnh.edu/event/last-day-to-withdraw-with-w-grade-from-a-1st-half-term-class/
CATEGORIES:Academic Calendar
END:VEVENT
BEGIN:VEVENT
DTSTART;VALUE=DATE:20250929
DTEND;VALUE=DATE:20250930
DTSTAMP:20260425T062839
CREATED:20250805T171410Z
LAST-MODIFIED:20250805T171410Z
UID:10002958-1759104000-1759190399@mccnh.edu
SUMMARY:Last Day to Add/Drop a 12-Week Term Class with a Refund
DESCRIPTION:
URL:https://mccnh.edu/event/last-day-to-add-drop-a-12-week-term-class-with-a-refund/
CATEGORIES:Academic Calendar
END:VEVENT
BEGIN:VEVENT
DTSTART;VALUE=DATE:20251007
DTEND;VALUE=DATE:20251008
DTSTAMP:20260425T062839
CREATED:20250805T171630Z
LAST-MODIFIED:20250805T171630Z
UID:10002959-1759795200-1759881599@mccnh.edu
SUMMARY:Last Day to Withdraw with a "WP" or "WF" Grade from a First 8-Week Term Class
DESCRIPTION:
URL:https://mccnh.edu/event/last-day-to-withdraw-with-a-wp-or-wf-grade-from-a-first-8-week-term-class/
CATEGORIES:Academic Calendar
END:VEVENT
BEGIN:VEVENT
DTSTART;VALUE=DATE:20251018
DTEND;VALUE=DATE:20251019
DTSTAMP:20260425T062839
CREATED:20250805T171755Z
LAST-MODIFIED:20250805T171755Z
UID:10002960-1760745600-1760831999@mccnh.edu
SUMMARY:First 8-Week Term Classes End
DESCRIPTION:
URL:https://mccnh.edu/event/first-8-week-term-classes-end/
CATEGORIES:Academic Calendar
END:VEVENT
BEGIN:VEVENT
DTSTART;VALUE=DATE:20251020
DTEND;VALUE=DATE:20251021
DTSTAMP:20260425T062839
CREATED:20250801T181454Z
LAST-MODIFIED:20250801T181805Z
UID:10002947-1760918400-1761004799@mccnh.edu
SUMMARY:Second 8-Week Term Fall Classes Begin
DESCRIPTION:
URL:https://mccnh.edu/event/8-week-term-fall-classes-begin/
CATEGORIES:Academic Calendar
END:VEVENT
BEGIN:VEVENT
DTSTART;VALUE=DATE:20251027
DTEND;VALUE=DATE:20251028
DTSTAMP:20260425T062839
CREATED:20250805T171926Z
LAST-MODIFIED:20250805T171926Z
UID:10002961-1761523200-1761609599@mccnh.edu
SUMMARY:Last Day to Add/Drop a Second 8-Week Term Class with a Refund
DESCRIPTION:
URL:https://mccnh.edu/event/last-day-to-add-drop-a-second-8-week-term-class-with-a-refund/
CATEGORIES:Academic Calendar
END:VEVENT
BEGIN:VEVENT
DTSTART;VALUE=DATE:20251030
DTEND;VALUE=DATE:20251031
DTSTAMP:20260425T062839
CREATED:20250407T154225Z
LAST-MODIFIED:20250407T154225Z
UID:10002113-1761782400-1761868799@mccnh.edu
SUMMARY:Last day to withdraw with “W” grade from a 16-Week Term Fall Class
DESCRIPTION:
URL:https://mccnh.edu/event/last-day-to-withdraw-with-w-grade-from-a-16-week-term-fall-class-2/
CATEGORIES:Academic Calendar
END:VEVENT
BEGIN:VEVENT
DTSTART;VALUE=DATE:20251110
DTEND;VALUE=DATE:20251111
DTSTAMP:20260425T062839
CREATED:20250805T172059Z
LAST-MODIFIED:20250805T172059Z
UID:10002962-1762732800-1762819199@mccnh.edu
SUMMARY:Last Day to Withdraw with "W" Grade from a 12-Week Term Class
DESCRIPTION:
URL:https://mccnh.edu/event/last-day-to-withdraw-with-w-grade-from-a-12-week-term-class/
CATEGORIES:Academic Calendar
END:VEVENT
BEGIN:VEVENT
DTSTART;VALUE=DATE:20251111
DTEND;VALUE=DATE:20251112
DTSTAMP:20260425T062839
CREATED:20250407T154329Z
LAST-MODIFIED:20250805T165545Z
UID:10002114-1762819200-1762905599@mccnh.edu
SUMMARY:Veterans’ Day Holiday Observed – No Classes and Offices Closed
DESCRIPTION:
URL:https://mccnh.edu/event/veterans-day-holiday-observed-no-classes-and-offices-closed-3/
CATEGORIES:Academic Calendar,General Calendar
END:VEVENT
BEGIN:VEVENT
DTSTART;VALUE=DATE:20251124
DTEND;VALUE=DATE:20251125
DTSTAMP:20260425T062839
CREATED:20250805T172305Z
LAST-MODIFIED:20250805T172305Z
UID:10002963-1763942400-1764028799@mccnh.edu
SUMMARY:Last Day to Withdraw with "W" Grade from a Second 8-Week Term Class
DESCRIPTION:
URL:https://mccnh.edu/event/last-day-to-withdraw-with-w-grade-from-a-second-8-week-term-class/
CATEGORIES:Academic Calendar
END:VEVENT
END:VCALENDAR