BEGIN:VCALENDAR
VERSION:2.0
PRODID:-//Manchester Community College NH - ECPv6.15.20//NONSGML v1.0//EN
CALSCALE:GREGORIAN
METHOD:PUBLISH
X-WR-CALNAME:Manchester Community College NH
X-ORIGINAL-URL:https://mccnh.edu
X-WR-CALDESC:Events for Manchester Community College NH
REFRESH-INTERVAL;VALUE=DURATION:PT1H
X-Robots-Tag:noindex
X-PUBLISHED-TTL:PT1H
BEGIN:VTIMEZONE
TZID:America/New_York
BEGIN:DAYLIGHT
TZOFFSETFROM:-0500
TZOFFSETTO:-0400
TZNAME:EDT
DTSTART:20250309T070000
END:DAYLIGHT
BEGIN:STANDARD
TZOFFSETFROM:-0400
TZOFFSETTO:-0500
TZNAME:EST
DTSTART:20251102T060000
END:STANDARD
BEGIN:DAYLIGHT
TZOFFSETFROM:-0500
TZOFFSETTO:-0400
TZNAME:EDT
DTSTART:20260308T070000
END:DAYLIGHT
BEGIN:STANDARD
TZOFFSETFROM:-0400
TZOFFSETTO:-0500
TZNAME:EST
DTSTART:20261101T060000
END:STANDARD
BEGIN:DAYLIGHT
TZOFFSETFROM:-0500
TZOFFSETTO:-0400
TZNAME:EDT
DTSTART:20270314T070000
END:DAYLIGHT
BEGIN:STANDARD
TZOFFSETFROM:-0400
TZOFFSETTO:-0500
TZNAME:EST
DTSTART:20271107T060000
END:STANDARD
END:VTIMEZONE
BEGIN:VEVENT
DTSTART;TZID=America/New_York:20260305T163000
DTEND;TZID=America/New_York:20260305T173000
DTSTAMP:20260419T130650
CREATED:20260224T162032Z
LAST-MODIFIED:20260224T162032Z
UID:10003201-1772728200-1772731800@mccnh.edu
SUMMARY:Group Fitness Fundraiser
DESCRIPTION:On Thursday\, March 5th from 4:30 to 5:30 PM in the MPR\, MCC’s Health and Exercise Science seniors are hosting a low-impact fitness class designed for all ability levels. This upbeat session features a welcoming community atmosphere\, motivating music\, and fun while moving. \nDonations are appreciated and will help the students design and purchase program sweatshirts. See flyers on campus for a QR code to let us know you are attending.
URL:https://mccnh.edu/event/group-fitness-fundraiser/
LOCATION:Manchester Community College MPR\, Manchester Community College\, 1066 Front Street\, Manchester\, NH\, 03102\, United States
CATEGORIES:Faculty/Staff Calendar,Student Calendar
GEO:43.0189086;-71.4838349
X-APPLE-STRUCTURED-LOCATION;VALUE=URI;X-ADDRESS=Manchester Community College MPR Manchester Community College 1066 Front Street Manchester NH 03102 United States;X-APPLE-RADIUS=500;X-TITLE=Manchester Community College\, 1066 Front Street:geo:-71.4838349,43.0189086
END:VEVENT
BEGIN:VEVENT
DTSTART;TZID=America/New_York:20260313T180000
DTEND;TZID=America/New_York:20260313T203000
DTSTAMP:20260419T130650
CREATED:20260302T152047Z
LAST-MODIFIED:20260302T152524Z
UID:10003209-1773424800-1773433800@mccnh.edu
SUMMARY:Cultural Exchange Club - Iftar Dinner
DESCRIPTION:The Cultural Exchange Club has partnered with the Turkish Cultural Center of Manchester to hold a FREE Iftar dinner to celebrate Ramadan on Friday\, March 13th from 6 PM to 8:30 PM  in the MPR. Turkish food will be provided by the Turkish Cultural Center\, as well as fun activities\, and information about the celebration. Join us for a great evening of good food and fun cultural experiences. Open to all faculty and staff and their families! For more information\, email: gfearnley@ccsnh.edu.
URL:https://mccnh.edu/event/cultural-exchange-club-iftar-dinner-2/
LOCATION:Manchester Community College MPR\, Manchester Community College\, 1066 Front Street\, Manchester\, NH\, 03102\, United States
CATEGORIES:Faculty/Staff Calendar
GEO:43.0189086;-71.4838349
X-APPLE-STRUCTURED-LOCATION;VALUE=URI;X-ADDRESS=Manchester Community College MPR Manchester Community College 1066 Front Street Manchester NH 03102 United States;X-APPLE-RADIUS=500;X-TITLE=Manchester Community College\, 1066 Front Street:geo:-71.4838349,43.0189086
END:VEVENT
END:VCALENDAR