BEGIN:VCALENDAR
VERSION:2.0
PRODID:-//Manchester Community College NH - ECPv6.15.20//NONSGML v1.0//EN
CALSCALE:GREGORIAN
METHOD:PUBLISH
X-WR-CALNAME:Manchester Community College NH
X-ORIGINAL-URL:https://mccnh.edu
X-WR-CALDESC:Events for Manchester Community College NH
REFRESH-INTERVAL;VALUE=DURATION:PT1H
X-Robots-Tag:noindex
X-PUBLISHED-TTL:PT1H
BEGIN:VTIMEZONE
TZID:America/New_York
BEGIN:DAYLIGHT
TZOFFSETFROM:-0500
TZOFFSETTO:-0400
TZNAME:EDT
DTSTART:20250309T070000
END:DAYLIGHT
BEGIN:STANDARD
TZOFFSETFROM:-0400
TZOFFSETTO:-0500
TZNAME:EST
DTSTART:20251102T060000
END:STANDARD
BEGIN:DAYLIGHT
TZOFFSETFROM:-0500
TZOFFSETTO:-0400
TZNAME:EDT
DTSTART:20260308T070000
END:DAYLIGHT
BEGIN:STANDARD
TZOFFSETFROM:-0400
TZOFFSETTO:-0500
TZNAME:EST
DTSTART:20261101T060000
END:STANDARD
BEGIN:DAYLIGHT
TZOFFSETFROM:-0500
TZOFFSETTO:-0400
TZNAME:EDT
DTSTART:20270314T070000
END:DAYLIGHT
BEGIN:STANDARD
TZOFFSETFROM:-0400
TZOFFSETTO:-0500
TZNAME:EST
DTSTART:20271107T060000
END:STANDARD
END:VTIMEZONE
BEGIN:VEVENT
DTSTART;TZID=America/New_York:20260414T153000
DTEND;TZID=America/New_York:20260414T170000
DTSTAMP:20260419T104410
CREATED:20260126T161954Z
LAST-MODIFIED:20260213T201153Z
UID:10003179-1776180600-1776186000@mccnh.edu
SUMMARY:Fun with Music\, Art and Literacy
DESCRIPTION:Calling all kids and families\nMCC Celebrates the Week of the Young Child\nFun with Music\, Art and Literacy\n  \nPresented by the ECE Dept and Student Life\nSpecial Guest Performer: Children’s Musician “Mr. Aaron”.\n \nTuesday April 14\, 3:30 to 5pm in the MCC gym (MPR)\n \nFree and open to all preschool aged children of MCC students\, faculty and staff\, along with families of the MCC Child Development Center. Children must be accompanied by a parent or caregiver.\nQuestions? Contact Laurie Wescotttlwescott@ccsnh.edu\, or Aileen Clayaclay@ccsnh.edu
URL:https://mccnh.edu/event/ece-department-family-event-2/
LOCATION:Manchester Community College MPR\, Manchester Community College\, 1066 Front Street\, Manchester\, NH\, 03102\, United States
CATEGORIES:Faculty/Staff Calendar,Student Calendar
GEO:43.0189086;-71.4838349
X-APPLE-STRUCTURED-LOCATION;VALUE=URI;X-ADDRESS=Manchester Community College MPR Manchester Community College 1066 Front Street Manchester NH 03102 United States;X-APPLE-RADIUS=500;X-TITLE=Manchester Community College\, 1066 Front Street:geo:-71.4838349,43.0189086
END:VEVENT
END:VCALENDAR