BEGIN:VCALENDAR
VERSION:2.0
PRODID:-//Manchester Community College NH - ECPv6.15.20//NONSGML v1.0//EN
CALSCALE:GREGORIAN
METHOD:PUBLISH
X-WR-CALNAME:Manchester Community College NH
X-ORIGINAL-URL:https://mccnh.edu
X-WR-CALDESC:Events for Manchester Community College NH
REFRESH-INTERVAL;VALUE=DURATION:PT1H
X-Robots-Tag:noindex
X-PUBLISHED-TTL:PT1H
BEGIN:VTIMEZONE
TZID:America/New_York
BEGIN:DAYLIGHT
TZOFFSETFROM:-0500
TZOFFSETTO:-0400
TZNAME:EDT
DTSTART:20250309T070000
END:DAYLIGHT
BEGIN:STANDARD
TZOFFSETFROM:-0400
TZOFFSETTO:-0500
TZNAME:EST
DTSTART:20251102T060000
END:STANDARD
BEGIN:DAYLIGHT
TZOFFSETFROM:-0500
TZOFFSETTO:-0400
TZNAME:EDT
DTSTART:20260308T070000
END:DAYLIGHT
BEGIN:STANDARD
TZOFFSETFROM:-0400
TZOFFSETTO:-0500
TZNAME:EST
DTSTART:20261101T060000
END:STANDARD
BEGIN:DAYLIGHT
TZOFFSETFROM:-0500
TZOFFSETTO:-0400
TZNAME:EDT
DTSTART:20270314T070000
END:DAYLIGHT
BEGIN:STANDARD
TZOFFSETFROM:-0400
TZOFFSETTO:-0500
TZNAME:EST
DTSTART:20271107T060000
END:STANDARD
END:VTIMEZONE
BEGIN:VEVENT
DTSTART;TZID=America/New_York:20260423T070000
DTEND;TZID=America/New_York:20260423T210000
DTSTAMP:20260419T120519
CREATED:20260323T142005Z
LAST-MODIFIED:20260323T142032Z
UID:10003221-1776927600-1776978000@mccnh.edu
SUMMARY:Talent Showcase
DESCRIPTION:TALENT WELCOME! – Singers\, dancers\, acrobats\, instrumentalists – solo or group – are encouraged to audition on Thursday\, March 26th between 4:30 and 6 PM in Room 126. \nThe talent showcase will be presented on Thursday\, April 23rd with performances at 3:30 and 7 PM. MCC students\, staff\, and faculty are all invited to perform in this non-competitive talent show. \nRehearsals will be held on Thursdays from 4:30 – 6 PM in Room 126 on April 2\, 9\, and 16 with a run-through on Wednesday\, April 22 at 6 PM – immediately following the Open House.
URL:https://mccnh.edu/event/talent-showcase/2026-04-23/1/
LOCATION:Manchester Community College\, Room 126\, 1066 Front Street\, Manchester\, NH\, 03102\, United States
CATEGORIES:Faculty/Staff Calendar,Student Calendar
ORGANIZER;CN="Laura Bilodeau":MAILTO:lbilodeau@ccsnh.edu
GEO:43.0190476;-71.4841072
X-APPLE-STRUCTURED-LOCATION;VALUE=URI;X-ADDRESS=Manchester Community College Room 126 1066 Front Street Manchester NH 03102 United States;X-APPLE-RADIUS=500;X-TITLE=1066 Front Street:geo:-71.4841072,43.0190476
END:VEVENT
BEGIN:VEVENT
DTSTART;TZID=America/New_York:20260423T153000
DTEND;TZID=America/New_York:20260423T173000
DTSTAMP:20260419T120519
CREATED:20260323T142005Z
LAST-MODIFIED:20260323T142032Z
UID:10003222-1776958200-1776965400@mccnh.edu
SUMMARY:Talent Showcase
DESCRIPTION:TALENT WELCOME! – Singers\, dancers\, acrobats\, instrumentalists – solo or group – are encouraged to audition on Thursday\, March 26th between 4:30 and 6 PM in Room 126. \nThe talent showcase will be presented on Thursday\, April 23rd with performances at 3:30 and 7 PM. MCC students\, staff\, and faculty are all invited to perform in this non-competitive talent show. \nRehearsals will be held on Thursdays from 4:30 – 6 PM in Room 126 on April 2\, 9\, and 16 with a run-through on Wednesday\, April 22 at 6 PM – immediately following the Open House.
URL:https://mccnh.edu/event/talent-showcase/2026-04-23/2/
LOCATION:Manchester Community College\, Room 126\, 1066 Front Street\, Manchester\, NH\, 03102\, United States
CATEGORIES:Faculty/Staff Calendar,Student Calendar
ORGANIZER;CN="Laura Bilodeau":MAILTO:lbilodeau@ccsnh.edu
GEO:43.0190476;-71.4841072
X-APPLE-STRUCTURED-LOCATION;VALUE=URI;X-ADDRESS=Manchester Community College Room 126 1066 Front Street Manchester NH 03102 United States;X-APPLE-RADIUS=500;X-TITLE=1066 Front Street:geo:-71.4841072,43.0190476
END:VEVENT
BEGIN:VEVENT
DTSTART;TZID=America/New_York:20260425T093000
DTEND;TZID=America/New_York:20260425T120000
DTSTAMP:20260419T120519
CREATED:20260126T165021Z
LAST-MODIFIED:20260209T181528Z
UID:10003181-1777109400-1777118400@mccnh.edu
SUMMARY:MCC/SHP Build A Bed Day
DESCRIPTION:Join the MCC community for a hands-on volunteer Build Day with Sleep in Heavenly Peace. Help build bed components for local children who do not have beds of their own. Volunteers will work together to cut\, sand\, drill\, assemble\, stain\, and brand lumber to create bed frames that will later be delivered with new mattresses and bedding. This outdoor\, active event is a rewarding way to give back\, connect with others\, and make a meaningful impact in the community. \n\nNo experience needed.\n\nDate & Time: Saturday\, April 25\, 9:30am-12pm\nLocation: On MCC campus\, outdoors\n\nBuild Day is sponsored by the MCC Student Leadership Board and various corporate event sponsors.\n\nSign up: https://x.gldn.io/e/XUWzYk6JC0b
URL:https://mccnh.edu/event/mcc-shp-build-a-bed-day-2/
LOCATION:Manchester Community College\, 1066 Front Street\, Manchester\, 03102\, United States
CATEGORIES:Faculty/Staff Calendar,General Calendar,Student Calendar
ORGANIZER;CN="Aileen Clay":MAILTO:aclay@ccsnh.edu
GEO:43.0190476;-71.4841072
X-APPLE-STRUCTURED-LOCATION;VALUE=URI;X-ADDRESS=Manchester Community College 1066 Front Street Manchester 03102 United States;X-APPLE-RADIUS=500;X-TITLE=1066 Front Street:geo:-71.4841072,43.0190476
END:VEVENT
BEGIN:VEVENT
DTSTART;TZID=America/New_York:20260429T120000
DTEND;TZID=America/New_York:20260429T140000
DTSTAMP:20260419T120519
CREATED:20260225T215449Z
LAST-MODIFIED:20260225T215449Z
UID:10003206-1777464000-1777471200@mccnh.edu
SUMMARY:Psychology/Sociology Student Showcase
DESCRIPTION:Our Behavioral Science Program will host the first MCC Psychology/Sociology Student Showcase\, “Mind & Society” on Wednesday\, April 29th from 12:00 PM – 2:00 PM in the Kelly Marr Center. Please stop by to see the student projects from our various psychology courses and engage in discussions with the students who created them.
URL:https://mccnh.edu/event/psychology-sociology-student-showcase/
LOCATION:Kelly Marr Center (Room 244)
CATEGORIES:Faculty/Staff Calendar,Student Calendar
END:VEVENT
BEGIN:VEVENT
DTSTART;TZID=America/New_York:20260429T120000
DTEND;TZID=America/New_York:20260429T150000
DTSTAMP:20260419T120519
CREATED:20260225T215257Z
LAST-MODIFIED:20260225T215257Z
UID:10003205-1777464000-1777474800@mccnh.edu
SUMMARY:Human Services Expo
DESCRIPTION:MCC’s 4th Human Services Expo will be held in the MPR on Wednesday\, April 29th from 12:00 PM to 3:00 PM. This event is open to the entire MCC Community as well as the general public in an effort to spread the word about Human Services as both a discipline of study and a career opportunity. \nThe New Hampshire Department of Health and Human Services (DHHS) and area Human Services agencies will participate in a speed-dating activity where attendees will go from table to table to learn about diverse types of work available in the field. They will engage in brief discussions and answer questions about their area of expertise. DHHS is one of the largest employers in the State of NH and they hire from all disciplines from HVAC to Electrical Technicians\, from Marketing to Nursing. Their Human Resources personnel will be available to discuss opportunities with students from all our programs and assist them with the application process so send your students to meet with them.
URL:https://mccnh.edu/event/human-services-expo/
LOCATION:Manchester Community College MPR\, Manchester Community College\, 1066 Front Street\, Manchester\, NH\, 03102\, United States
CATEGORIES:Faculty/Staff Calendar,General Calendar,Student Calendar
GEO:43.0189086;-71.4838349
X-APPLE-STRUCTURED-LOCATION;VALUE=URI;X-ADDRESS=Manchester Community College MPR Manchester Community College 1066 Front Street Manchester NH 03102 United States;X-APPLE-RADIUS=500;X-TITLE=Manchester Community College\, 1066 Front Street:geo:-71.4838349,43.0189086
END:VEVENT
BEGIN:VEVENT
DTSTART;TZID=America/New_York:20260430T160000
DTEND;TZID=America/New_York:20260430T180000
DTSTAMP:20260419T120519
CREATED:20260417T211728Z
LAST-MODIFIED:20260417T211728Z
UID:10003272-1777564800-1777572000@mccnh.edu
SUMMARY:A Reading & Celebration - Queen City Review and Readers Theater
DESCRIPTION:The Queen City Review in partnership with Readers Theatre presents: A Reading and Celebration! It will take place from 4 to 6 pm Thursday\, April 30 in The Pit\, outside the Multipurpose Room in MCC’s Main Building. The event will include readings from the May 2026 issue of the Queen City Review. Copies will be available for students.  Readers Theatre will read and perform the poems of Amanda Gorman. There will also be an Open Mic and refreshments.
URL:https://mccnh.edu/event/a-reading-celebration-queen-city-review-and-readers-theater/
LOCATION:MCC Student Center\, 1066 Front Street\, Manchester\, NH\, 03102\, United States
CATEGORIES:Faculty/Staff Calendar,General Calendar,Student Calendar
GEO:43.0190476;-71.4841072
X-APPLE-STRUCTURED-LOCATION;VALUE=URI;X-ADDRESS=MCC Student Center 1066 Front Street Manchester NH 03102 United States;X-APPLE-RADIUS=500;X-TITLE=1066 Front Street:geo:-71.4841072,43.0190476
END:VEVENT
END:VCALENDAR