BEGIN:VCALENDAR
VERSION:2.0
PRODID:-//Manchester Community College NH - ECPv6.15.20//NONSGML v1.0//EN
CALSCALE:GREGORIAN
METHOD:PUBLISH
X-ORIGINAL-URL:https://mccnh.edu
X-WR-CALDESC:Events for Manchester Community College NH
REFRESH-INTERVAL;VALUE=DURATION:PT1H
X-Robots-Tag:noindex
X-PUBLISHED-TTL:PT1H
BEGIN:VTIMEZONE
TZID:America/New_York
BEGIN:DAYLIGHT
TZOFFSETFROM:-0500
TZOFFSETTO:-0400
TZNAME:EDT
DTSTART:20240310T070000
END:DAYLIGHT
BEGIN:STANDARD
TZOFFSETFROM:-0400
TZOFFSETTO:-0500
TZNAME:EST
DTSTART:20241103T060000
END:STANDARD
BEGIN:DAYLIGHT
TZOFFSETFROM:-0500
TZOFFSETTO:-0400
TZNAME:EDT
DTSTART:20250309T070000
END:DAYLIGHT
BEGIN:STANDARD
TZOFFSETFROM:-0400
TZOFFSETTO:-0500
TZNAME:EST
DTSTART:20251102T060000
END:STANDARD
BEGIN:DAYLIGHT
TZOFFSETFROM:-0500
TZOFFSETTO:-0400
TZNAME:EDT
DTSTART:20260308T070000
END:DAYLIGHT
BEGIN:STANDARD
TZOFFSETFROM:-0400
TZOFFSETTO:-0500
TZNAME:EST
DTSTART:20261101T060000
END:STANDARD
BEGIN:DAYLIGHT
TZOFFSETFROM:-0500
TZOFFSETTO:-0400
TZNAME:EDT
DTSTART:20270314T070000
END:DAYLIGHT
BEGIN:STANDARD
TZOFFSETFROM:-0400
TZOFFSETTO:-0500
TZNAME:EST
DTSTART:20271107T060000
END:STANDARD
END:VTIMEZONE
BEGIN:VEVENT
DTSTART;TZID=America/New_York:20250514T083000
DTEND;TZID=America/New_York:20250514T150000
DTSTAMP:20260423T060342
CREATED:20250212T204424Z
LAST-MODIFIED:20250212T204424Z
UID:10002029-1747211400-1747234800@mccnh.edu
SUMMARY:CCSNH Symposium
DESCRIPTION:Registration is at 8:30am and the event starts at 9:00am.
URL:https://mccnh.edu/event/ccsnh-symposium/
LOCATION:Manchester Community College\, 1066 Front Street\, Manchester\, 03102\, United States
CATEGORIES:Faculty/Staff Calendar
GEO:43.0190476;-71.4841072
X-APPLE-STRUCTURED-LOCATION;VALUE=URI;X-ADDRESS=Manchester Community College 1066 Front Street Manchester 03102 United States;X-APPLE-RADIUS=500;X-TITLE=1066 Front Street:geo:-71.4841072,43.0190476
END:VEVENT
BEGIN:VEVENT
DTSTART;TZID=America/New_York:20250602T153000
DTEND;TZID=America/New_York:20250602T163000
DTSTAMP:20260423T060342
CREATED:20250513T171856Z
LAST-MODIFIED:20250530T182300Z
UID:10002173-1748878200-1748881800@mccnh.edu
SUMMARY:Learn to Play Pickleball
DESCRIPTION:Learn to play for FREE here at MCC! Four-week sessions in the MPR from 3:30 PM – 4:30 PM (Weeks of June 2nd\, 16th\, 23rd and 30th.) Beginner-friendly sessions include: basic rules and scoring\, serving\, and court positioning. Equipment provided – just show up and have fun! (wear comfortable clothes and sneakers). Email jaube@ccsnh.edu with any questions.
URL:https://mccnh.edu/event/learn-to-play-pickleball-3/
LOCATION:Manchester Community College MPR\, Manchester Community College\, 1066 Front Street\, Manchester\, NH\, 03102\, United States
CATEGORIES:Faculty/Staff Calendar,Student Calendar
ORGANIZER;CN="Jen Aube":MAILTO:jaube@ccsnh.edu
GEO:43.0189086;-71.4838349
X-APPLE-STRUCTURED-LOCATION;VALUE=URI;X-ADDRESS=Manchester Community College MPR Manchester Community College 1066 Front Street Manchester NH 03102 United States;X-APPLE-RADIUS=500;X-TITLE=Manchester Community College\, 1066 Front Street:geo:-71.4838349,43.0189086
END:VEVENT
BEGIN:VEVENT
DTSTART;TZID=America/New_York:20250616T153000
DTEND;TZID=America/New_York:20250616T163000
DTSTAMP:20260423T060342
CREATED:20250513T172025Z
LAST-MODIFIED:20250530T182522Z
UID:10002556-1750087800-1750091400@mccnh.edu
SUMMARY:Learn to Play Pickleball
DESCRIPTION:Learn to play for FREE here at MCC! Four-week sessions in the MPR from 3:30 PM – 4:30 PM (Weeks of June 2nd\, 16th\, 23rd and 30th.) Beginner-friendly sessions include: basic rules and scoring\, serving\, and court positioning. Equipment provided – just show up and have fun! (wear comfortable clothes and sneakers). Email jaube@ccsnh.edu with any questions.
URL:https://mccnh.edu/event/learn-to-play-pickleball-4/
LOCATION:Manchester Community College MPR\, Manchester Community College\, 1066 Front Street\, Manchester\, NH\, 03102\, United States
CATEGORIES:Faculty/Staff Calendar,Student Calendar
ORGANIZER;CN="Jen Aube":MAILTO:jaube@ccsnh.edu
GEO:43.0189086;-71.4838349
X-APPLE-STRUCTURED-LOCATION;VALUE=URI;X-ADDRESS=Manchester Community College MPR Manchester Community College 1066 Front Street Manchester NH 03102 United States;X-APPLE-RADIUS=500;X-TITLE=Manchester Community College\, 1066 Front Street:geo:-71.4838349,43.0189086
END:VEVENT
BEGIN:VEVENT
DTSTART;TZID=America/New_York:20250623T153000
DTEND;TZID=America/New_York:20250623T163000
DTSTAMP:20260423T060342
CREATED:20250513T172321Z
LAST-MODIFIED:20250530T182644Z
UID:10002916-1750692600-1750696200@mccnh.edu
SUMMARY:Learn to Play Pickleball
DESCRIPTION:Learn to play for FREE here at MCC! Four-week sessions in the MPR from 3:30 PM – 4:30 PM (Weeks of June 2nd\, 16th\, 23rd and 30th.) Beginner-friendly sessions include: basic rules and scoring\, serving\, and court positioning. Equipment provided – just show up and have fun! (wear comfortable clothes and sneakers). Email jaube@ccsnh.edu with any questions.
URL:https://mccnh.edu/event/learn-to-play-pickleball-5/
LOCATION:Manchester Community College MPR\, Manchester Community College\, 1066 Front Street\, Manchester\, NH\, 03102\, United States
CATEGORIES:Faculty/Staff Calendar,Student Calendar
ORGANIZER;CN="Jen Aube":MAILTO:jaube@ccsnh.edu
GEO:43.0189086;-71.4838349
X-APPLE-STRUCTURED-LOCATION;VALUE=URI;X-ADDRESS=Manchester Community College MPR Manchester Community College 1066 Front Street Manchester NH 03102 United States;X-APPLE-RADIUS=500;X-TITLE=Manchester Community College\, 1066 Front Street:geo:-71.4838349,43.0189086
END:VEVENT
BEGIN:VEVENT
DTSTART;TZID=America/New_York:20250630T153000
DTEND;TZID=America/New_York:20250630T163000
DTSTAMP:20260423T060342
CREATED:20250513T172500Z
LAST-MODIFIED:20250530T182819Z
UID:10002926-1751297400-1751301000@mccnh.edu
SUMMARY:Learn to Play Pickleball
DESCRIPTION:Learn to play for FREE here at MCC! Four-week sessions in the MPR from 3:30 PM – 4:30 PM (Weeks of June 2nd\, 16th\, 23rd and 30th.) Beginner-friendly sessions include: basic rules and scoring\, serving\, and court positioning. Equipment provided – just show up and have fun! (wear comfortable clothes and sneakers). Email jaube@ccsnh.edu with any questions.
URL:https://mccnh.edu/event/learn-to-play-pickleball-6/
LOCATION:Manchester Community College MPR\, Manchester Community College\, 1066 Front Street\, Manchester\, NH\, 03102\, United States
CATEGORIES:Faculty/Staff Calendar,Student Calendar
ORGANIZER;CN="Jen Aube":MAILTO:jaube@ccsnh.edu
GEO:43.0189086;-71.4838349
X-APPLE-STRUCTURED-LOCATION;VALUE=URI;X-ADDRESS=Manchester Community College MPR Manchester Community College 1066 Front Street Manchester NH 03102 United States;X-APPLE-RADIUS=500;X-TITLE=Manchester Community College\, 1066 Front Street:geo:-71.4838349,43.0189086
END:VEVENT
BEGIN:VEVENT
DTSTART;VALUE=DATE:20250714
DTEND;VALUE=DATE:20250715
DTSTAMP:20260423T060342
CREATED:20240729T185427Z
LAST-MODIFIED:20240729T185427Z
UID:10001881-1752451200-1752537599@mccnh.edu
SUMMARY:First 8-Week Term Summer Class grades due by noon
DESCRIPTION:
URL:https://mccnh.edu/event/first-8-week-term-summer-class-grades-due-by-noon/
LOCATION:NH
CATEGORIES:Faculty/Staff Calendar
END:VEVENT
BEGIN:VEVENT
DTSTART;VALUE=DATE:20250808
DTEND;VALUE=DATE:20250809
DTSTAMP:20260423T060342
CREATED:20250407T152531Z
LAST-MODIFIED:20250407T153044Z
UID:10002106-1754611200-1754697599@mccnh.edu
SUMMARY:180 Day Staff Return for Fall Semester
DESCRIPTION:
URL:https://mccnh.edu/event/180-day-staff-return-for-fall-semester/
LOCATION:1066 Front Street\, Manchester\, NH\, 03102\, United States
CATEGORIES:Faculty/Staff Calendar
GEO:43.005671;-71.4752736
X-APPLE-STRUCTURED-LOCATION;VALUE=URI;X-ADDRESS=1066 Front Street Manchester NH 03102 United States;X-APPLE-RADIUS=500;X-TITLE=1066 Front Street:geo:-71.4752736,43.005671
END:VEVENT
BEGIN:VEVENT
DTSTART;VALUE=DATE:20250811
DTEND;VALUE=DATE:20250812
DTSTAMP:20260423T060342
CREATED:20240729T185420Z
LAST-MODIFIED:20240729T185420Z
UID:10001887-1754870400-1754956799@mccnh.edu
SUMMARY:Second 8-Week Term Summer Class grades due by noon
DESCRIPTION:
URL:https://mccnh.edu/event/second-8-week-term-summer-class-grades-due-by-noon/
LOCATION:NH
CATEGORIES:Faculty/Staff Calendar
END:VEVENT
BEGIN:VEVENT
DTSTART;VALUE=DATE:20250811
DTEND;VALUE=DATE:20250812
DTSTAMP:20260423T060342
CREATED:20240729T185422Z
LAST-MODIFIED:20240729T185422Z
UID:10001875-1754870400-1754956799@mccnh.edu
SUMMARY:12-Week Term Summer Class grades due by noon
DESCRIPTION:
URL:https://mccnh.edu/event/12-week-term-summer-class-grades-due-by-noon/
LOCATION:NH
CATEGORIES:Faculty/Staff Calendar
END:VEVENT
BEGIN:VEVENT
DTSTART;VALUE=DATE:20250812
DTEND;VALUE=DATE:20250813
DTSTAMP:20260423T060342
CREATED:20250407T152626Z
LAST-MODIFIED:20250407T153023Z
UID:10002107-1754956800-1755043199@mccnh.edu
SUMMARY:10 Month and 11 Month Faculty Return for Fall Semester
DESCRIPTION:
URL:https://mccnh.edu/event/10-month-and-11-month-faculty-return-for-fall-semester/
LOCATION:NH
CATEGORIES:Faculty/Staff Calendar
END:VEVENT
BEGIN:VEVENT
DTSTART;VALUE=DATE:20250912
DTEND;VALUE=DATE:20250913
DTSTAMP:20260423T060342
CREATED:20250407T153356Z
LAST-MODIFIED:20250407T153411Z
UID:10002112-1757635200-1757721599@mccnh.edu
SUMMARY:Last day to resolve “I” grades from Summer 2025 Semester
DESCRIPTION:
URL:https://mccnh.edu/event/last-day-to-resolve-i-grades-from-summer-2025-semester/
LOCATION:NH
CATEGORIES:Faculty/Staff Calendar
END:VEVENT
BEGIN:VEVENT
DTSTART;TZID=America/New_York:20251003T170000
DTEND;TZID=America/New_York:20251003T200000
DTSTAMP:20260423T060342
CREATED:20250915T154400Z
LAST-MODIFIED:20250915T154400Z
UID:10003032-1759510800-1759521600@mccnh.edu
SUMMARY:Pass Along Project - Fall Clothes for Kids Sorting Event
DESCRIPTION:This October we will continue our longstanding service tradition of supporting foster youth by partnering with the Pass Along Project to host their fall Clothes for Kids sorting event. The event will take place from 5 PM to 8 PM on Friday Oct 3rd\, and 9 AM to 2 PM on Saturday Oct 4th in the MPR. MCC students\, faculty\, staff\, and friends will be joined by community volunteers from Pass Along Project as we sort and size new and gently used children’s clothing. The Pass Along project provides a complete clothing kit to NH children as they enter foster care\, at no cost. Most recently our MCC SNA was actively involved in supporting the Pass Along Project’s winter gift drive for foster kids. Please mark your calendar and lend a hand if you can. Sign up info will follow. Visit this site to learn more about the important work of this non-profit organization.
URL:https://mccnh.edu/event/pass-along-project-fall-clothes-for-kids-sorting-event/2025-10-03/
LOCATION:Manchester Community College MPR\, Manchester Community College\, 1066 Front Street\, Manchester\, NH\, 03102\, United States
CATEGORIES:Faculty/Staff Calendar,General Calendar,Student Calendar
GEO:43.0189086;-71.4838349
X-APPLE-STRUCTURED-LOCATION;VALUE=URI;X-ADDRESS=Manchester Community College MPR Manchester Community College 1066 Front Street Manchester NH 03102 United States;X-APPLE-RADIUS=500;X-TITLE=Manchester Community College\, 1066 Front Street:geo:-71.4838349,43.0189086
END:VEVENT
BEGIN:VEVENT
DTSTART;TZID=America/New_York:20251004T090000
DTEND;TZID=America/New_York:20251004T140000
DTSTAMP:20260423T060342
CREATED:20250915T154400Z
LAST-MODIFIED:20250915T154400Z
UID:10003033-1759568400-1759586400@mccnh.edu
SUMMARY:Pass Along Project - Fall Clothes for Kids Sorting Event
DESCRIPTION:This October we will continue our longstanding service tradition of supporting foster youth by partnering with the Pass Along Project to host their fall Clothes for Kids sorting event. The event will take place from 5 PM to 8 PM on Friday Oct 3rd\, and 9 AM to 2 PM on Saturday Oct 4th in the MPR. MCC students\, faculty\, staff\, and friends will be joined by community volunteers from Pass Along Project as we sort and size new and gently used children’s clothing. The Pass Along project provides a complete clothing kit to NH children as they enter foster care\, at no cost. Most recently our MCC SNA was actively involved in supporting the Pass Along Project’s winter gift drive for foster kids. Please mark your calendar and lend a hand if you can. Sign up info will follow. Visit this site to learn more about the important work of this non-profit organization.
URL:https://mccnh.edu/event/pass-along-project-fall-clothes-for-kids-sorting-event/2025-10-04/
LOCATION:Manchester Community College MPR\, Manchester Community College\, 1066 Front Street\, Manchester\, NH\, 03102\, United States
CATEGORIES:Faculty/Staff Calendar,General Calendar,Student Calendar
GEO:43.0189086;-71.4838349
X-APPLE-STRUCTURED-LOCATION;VALUE=URI;X-ADDRESS=Manchester Community College MPR Manchester Community College 1066 Front Street Manchester NH 03102 United States;X-APPLE-RADIUS=500;X-TITLE=Manchester Community College\, 1066 Front Street:geo:-71.4838349,43.0189086
END:VEVENT
BEGIN:VEVENT
DTSTART;TZID=America/New_York:20251006T160000
DTEND;TZID=America/New_York:20251006T200000
DTSTAMP:20260423T060342
CREATED:20250929T145622Z
LAST-MODIFIED:20250929T145622Z
UID:10003057-1759766400-1759780800@mccnh.edu
SUMMARY:Pickleball
DESCRIPTION:
URL:https://mccnh.edu/event/pickleball-3/2025-10-06/
LOCATION:Manchester Community College MPR\, Manchester Community College\, 1066 Front Street\, Manchester\, NH\, 03102\, United States
CATEGORIES:Athletics Calendar,Faculty/Staff Calendar,Fitness Center Calendar,Student Calendar
GEO:43.0189086;-71.4838349
X-APPLE-STRUCTURED-LOCATION;VALUE=URI;X-ADDRESS=Manchester Community College MPR Manchester Community College 1066 Front Street Manchester NH 03102 United States;X-APPLE-RADIUS=500;X-TITLE=Manchester Community College\, 1066 Front Street:geo:-71.4838349,43.0189086
END:VEVENT
BEGIN:VEVENT
DTSTART;TZID=America/New_York:20251013T160000
DTEND;TZID=America/New_York:20251013T200000
DTSTAMP:20260423T060342
CREATED:20250929T145622Z
LAST-MODIFIED:20250929T145622Z
UID:10003058-1760371200-1760385600@mccnh.edu
SUMMARY:Pickleball
DESCRIPTION:
URL:https://mccnh.edu/event/pickleball-3/2025-10-13/
LOCATION:Manchester Community College MPR\, Manchester Community College\, 1066 Front Street\, Manchester\, NH\, 03102\, United States
CATEGORIES:Athletics Calendar,Faculty/Staff Calendar,Fitness Center Calendar,Student Calendar
GEO:43.0189086;-71.4838349
X-APPLE-STRUCTURED-LOCATION;VALUE=URI;X-ADDRESS=Manchester Community College MPR Manchester Community College 1066 Front Street Manchester NH 03102 United States;X-APPLE-RADIUS=500;X-TITLE=Manchester Community College\, 1066 Front Street:geo:-71.4838349,43.0189086
END:VEVENT
BEGIN:VEVENT
DTSTART;TZID=America/New_York:20251020T160000
DTEND;TZID=America/New_York:20251020T200000
DTSTAMP:20260423T060342
CREATED:20250929T145622Z
LAST-MODIFIED:20250929T145622Z
UID:10003059-1760976000-1760990400@mccnh.edu
SUMMARY:Pickleball
DESCRIPTION:
URL:https://mccnh.edu/event/pickleball-3/2025-10-20/
LOCATION:Manchester Community College MPR\, Manchester Community College\, 1066 Front Street\, Manchester\, NH\, 03102\, United States
CATEGORIES:Athletics Calendar,Faculty/Staff Calendar,Fitness Center Calendar,Student Calendar
GEO:43.0189086;-71.4838349
X-APPLE-STRUCTURED-LOCATION;VALUE=URI;X-ADDRESS=Manchester Community College MPR Manchester Community College 1066 Front Street Manchester NH 03102 United States;X-APPLE-RADIUS=500;X-TITLE=Manchester Community College\, 1066 Front Street:geo:-71.4838349,43.0189086
END:VEVENT
BEGIN:VEVENT
DTSTART;TZID=America/New_York:20251022T120000
DTEND;TZID=America/New_York:20251022T133000
DTSTAMP:20260423T060342
CREATED:20251002T195728Z
LAST-MODIFIED:20251002T195728Z
UID:10003092-1761134400-1761139800@mccnh.edu
SUMMARY:Nutrition Workshop
DESCRIPTION:Nutrition Workshop\nFree for ALL students\, faculty and staff!\nWednesday\, October 22nd  |  Noon Presentation  |  12:30-1:30pm Q&A (drop-in)\nKELLY MARR CENTER (Room #244) \nDiscover the secrets to healthy eating habits learn how to make nutritional choices that fit your lifestyle and boost your energy. Learn from a registered dietitian\, ask questions\, and leave with simple tips!\nAny questions please contact: jaube@ccsnh.edu
URL:https://mccnh.edu/event/nutrition-workshop/
LOCATION:Kelly Marr Center (Room 244)
CATEGORIES:Faculty/Staff Calendar,Student Calendar
ORGANIZER;CN="Jen Aube":MAILTO:jaube@ccsnh.edu
END:VEVENT
BEGIN:VEVENT
DTSTART;TZID=America/New_York:20251027T160000
DTEND;TZID=America/New_York:20251027T200000
DTSTAMP:20260423T060342
CREATED:20250929T145622Z
LAST-MODIFIED:20250929T145622Z
UID:10003060-1761580800-1761595200@mccnh.edu
SUMMARY:Pickleball
DESCRIPTION:
URL:https://mccnh.edu/event/pickleball-3/2025-10-27/
LOCATION:Manchester Community College MPR\, Manchester Community College\, 1066 Front Street\, Manchester\, NH\, 03102\, United States
CATEGORIES:Athletics Calendar,Faculty/Staff Calendar,Fitness Center Calendar,Student Calendar
GEO:43.0189086;-71.4838349
X-APPLE-STRUCTURED-LOCATION;VALUE=URI;X-ADDRESS=Manchester Community College MPR Manchester Community College 1066 Front Street Manchester NH 03102 United States;X-APPLE-RADIUS=500;X-TITLE=Manchester Community College\, 1066 Front Street:geo:-71.4838349,43.0189086
END:VEVENT
BEGIN:VEVENT
DTSTART;TZID=America/New_York:20251101T080000
DTEND;TZID=America/New_York:20251101T120000
DTSTAMP:20260423T060342
CREATED:20251029T220611Z
LAST-MODIFIED:20251029T220611Z
UID:10003113-1761984000-1761998400@mccnh.edu
SUMMARY:Global Health Club Pickleball Tournament
DESCRIPTION:Get ready to serve\, volley\, and smash your way to victory in our Global Health Club Tournament! The cost to play is donation-based so players can donate however much they are able to! All donations are going towards lowering the cost of our Medical Mission Trip to the Dominican Republic in January! \nDonations: https://mcc-global-health-club-pickleball-tournament-saturday-novembe.cheddarup.com
URL:https://mccnh.edu/event/global-health-club-pickleball-tournament-2/
LOCATION:Manchester Community College MPR\, Manchester Community College\, 1066 Front Street\, Manchester\, NH\, 03102\, United States
CATEGORIES:Faculty/Staff Calendar,Student Calendar
GEO:43.0189086;-71.4838349
X-APPLE-STRUCTURED-LOCATION;VALUE=URI;X-ADDRESS=Manchester Community College MPR Manchester Community College 1066 Front Street Manchester NH 03102 United States;X-APPLE-RADIUS=500;X-TITLE=Manchester Community College\, 1066 Front Street:geo:-71.4838349,43.0189086
END:VEVENT
BEGIN:VEVENT
DTSTART;VALUE=DATE:20251119
DTEND;VALUE=DATE:20251120
DTSTAMP:20260423T060342
CREATED:20251117T160047Z
LAST-MODIFIED:20251117T160047Z
UID:10003119-1763510400-1763596799@mccnh.edu
SUMMARY:Dine at Shorty's and Support MCC Cyber Event
DESCRIPTION:The Computer Science Department is excited to announce that Shorty’s Mexican Roadhouse\, 1050 Bicentennial Drive in Manchester will host a “Fair Share” fundraising event on Wednesday\, November 19th\, in support of the 2026 MCC Cybersecurity Symposium. During the event\, anyone who dines at Shorty’s and places their receipt into the designated MCC bucket will directly contribute to the cause\, Shorty’s will donate a portion of those sales to help fund next spring’s Cybersecurity Symposium. This annual symposium brings together experts\, educators\, and industry professionals to explore emerging threats\, digital forensics\, and the future of cybersecurity. Your participation at Fair Share Night helps us make this vital community event even stronger. You can dine at Shorty’s ANYTIME on Nov. 19th – please encourage friends\, family and colleagues to join you!
URL:https://mccnh.edu/event/dine-at-shortys-and-support-mcc-cyber-event/
LOCATION:NH
CATEGORIES:Faculty/Staff Calendar
END:VEVENT
BEGIN:VEVENT
DTSTART;TZID=America/New_York:20251119T090000
DTEND;TZID=America/New_York:20251119T100000
DTSTAMP:20260423T060342
CREATED:20251110T163507Z
LAST-MODIFIED:20251110T163507Z
UID:10003115-1763542800-1763546400@mccnh.edu
SUMMARY:Veteran's Ceremony
DESCRIPTION:Wednesday\, November 19 at 9 AM at the flagpole. A light reception will follow.
URL:https://mccnh.edu/event/veterans-ceremony/
LOCATION:NH
CATEGORIES:Faculty/Staff Calendar
END:VEVENT
BEGIN:VEVENT
DTSTART;TZID=America/New_York:20251209T093000
DTEND;TZID=America/New_York:20251209T110000
DTSTAMP:20260423T060342
CREATED:20251124T160228Z
LAST-MODIFIED:20251124T160228Z
UID:10003141-1765272600-1765278000@mccnh.edu
SUMMARY:Cyber Showcase
DESCRIPTION:You are invited to attend a virtual showcase of student work from MCC’s Cybersecurity Investigations class on Tuesday\, Dec. 9th beginning at 9:30 AM. Students were given a single prompt to begin their research: “What are cell tower dumps\, and how can they help solve crime?” From this starting point\, the class divided into three teams\, each developing its own analysis and presentation. Their final work will be shared during the live virtual session\, which is open to business professionals\, cybersecurity practitioners\, as well as faculty and staff. If you would like to attend\, please email: plamonica@ccsnh.edu to request the virtual meeting link\, and it will be sent directly to you. We hope you will join us to support our students and engage with their research into modern investigative techniques.
URL:https://mccnh.edu/event/cyber-showcase/
LOCATION:NH
CATEGORIES:Faculty/Staff Calendar
END:VEVENT
BEGIN:VEVENT
DTSTART;VALUE=DATE:20251215
DTEND;VALUE=DATE:20251216
DTSTAMP:20260423T060342
CREATED:20250407T155124Z
LAST-MODIFIED:20250407T155124Z
UID:10002117-1765756800-1765843199@mccnh.edu
SUMMARY:Fall Semester grades due by noon
DESCRIPTION:
URL:https://mccnh.edu/event/fall-semester-grades-due-by-noon-2/
LOCATION:NH
CATEGORIES:Faculty/Staff Calendar
END:VEVENT
BEGIN:VEVENT
DTSTART;VALUE=DATE:20251215
DTEND;VALUE=DATE:20251216
DTSTAMP:20260423T060342
CREATED:20250407T155534Z
LAST-MODIFIED:20250407T155534Z
UID:10002121-1765756800-1765843199@mccnh.edu
SUMMARY:Last Day of Faculty Responsibility for 10 Month & 11 Month Faculty for Fall Semester
DESCRIPTION:
URL:https://mccnh.edu/event/last-day-of-faculty-responsibility-for-10-month-11-month-faculty-for-fall-semester/
LOCATION:NH
CATEGORIES:Faculty/Staff Calendar
END:VEVENT
BEGIN:VEVENT
DTSTART;VALUE=DATE:20251217
DTEND;VALUE=DATE:20251218
DTSTAMP:20260423T060342
CREATED:20250407T155228Z
LAST-MODIFIED:20250407T155228Z
UID:10002118-1765929600-1766015999@mccnh.edu
SUMMARY:Last Day of Responsibility for 180 Day Staff for Fall Semester
DESCRIPTION:
URL:https://mccnh.edu/event/last-day-of-responsibility-for-180-day-staff-for-fall-semester/
LOCATION:NH
CATEGORIES:Faculty/Staff Calendar
END:VEVENT
BEGIN:VEVENT
DTSTART;VALUE=DATE:20260105
DTEND;VALUE=DATE:20260106
DTSTAMP:20260423T060342
CREATED:20250407T155728Z
LAST-MODIFIED:20250407T155728Z
UID:10002123-1767571200-1767657599@mccnh.edu
SUMMARY:180 Day Staff Return for Spring Semester
DESCRIPTION:
URL:https://mccnh.edu/event/180-day-staff-return-for-spring-semester/
LOCATION:NH
CATEGORIES:Faculty/Staff Calendar
END:VEVENT
BEGIN:VEVENT
DTSTART;VALUE=DATE:20260108
DTEND;VALUE=DATE:20260109
DTSTAMP:20260423T060342
CREATED:20250407T155824Z
LAST-MODIFIED:20250407T155824Z
UID:10002124-1767830400-1767916799@mccnh.edu
SUMMARY:10 Month and 11 Month Faculty Return for Spring Semester
DESCRIPTION:
URL:https://mccnh.edu/event/10-month-and-11-month-faculty-return-for-spring-semester/
LOCATION:NH
CATEGORIES:Faculty/Staff Calendar
END:VEVENT
BEGIN:VEVENT
DTSTART;VALUE=DATE:20260113
DTEND;VALUE=DATE:20260114
DTSTAMP:20260423T060342
CREATED:20250407T155938Z
LAST-MODIFIED:20250407T183832Z
UID:10002125-1768262400-1768348799@mccnh.edu
SUMMARY:Winter Convening
DESCRIPTION:
URL:https://mccnh.edu/event/winter-convening/
LOCATION:NH
CATEGORIES:Faculty/Staff Calendar
END:VEVENT
BEGIN:VEVENT
DTSTART;TZID=America/New_York:20260205T113000
DTEND;TZID=America/New_York:20260205T133000
DTSTAMP:20260423T060342
CREATED:20260116T165638Z
LAST-MODIFIED:20260116T165638Z
UID:10003173-1770291000-1770298200@mccnh.edu
SUMMARY:Black History Through Music with DJ Mam
DESCRIPTION:Join MCC in celebrating Black History Month through music with DJ Mam. Stop by and listen on Thursday\, February 5 from 11:30 AM–1:30 PM in the Student Pit.
URL:https://mccnh.edu/event/black-history-through-music-with-dj-mam/
LOCATION:MCC Student Center\, 1066 Front Street\, Manchester\, NH\, 03102\, United States
CATEGORIES:Faculty/Staff Calendar,Student Calendar
GEO:43.0190476;-71.4841072
X-APPLE-STRUCTURED-LOCATION;VALUE=URI;X-ADDRESS=MCC Student Center 1066 Front Street Manchester NH 03102 United States;X-APPLE-RADIUS=500;X-TITLE=1066 Front Street:geo:-71.4841072,43.0190476
END:VEVENT
BEGIN:VEVENT
DTSTART;VALUE=DATE:20260206
DTEND;VALUE=DATE:20260207
DTSTAMP:20260423T060342
CREATED:20250407T160604Z
LAST-MODIFIED:20250407T160604Z
UID:10002130-1770336000-1770422399@mccnh.edu
SUMMARY:Last day to resolve “I” grades from Fall 2025 Semester
DESCRIPTION:
URL:https://mccnh.edu/event/last-day-to-resolve-i-grades-from-fall-2025-semester/
LOCATION:NH
CATEGORIES:Faculty/Staff Calendar
END:VEVENT
END:VCALENDAR