BEGIN:VCALENDAR
VERSION:2.0
PRODID:-//Manchester Community College NH - ECPv6.15.20//NONSGML v1.0//EN
CALSCALE:GREGORIAN
METHOD:PUBLISH
X-WR-CALNAME:Manchester Community College NH
X-ORIGINAL-URL:https://mccnh.edu
X-WR-CALDESC:Events for Manchester Community College NH
REFRESH-INTERVAL;VALUE=DURATION:PT1H
X-Robots-Tag:noindex
X-PUBLISHED-TTL:PT1H
BEGIN:VTIMEZONE
TZID:America/New_York
BEGIN:DAYLIGHT
TZOFFSETFROM:-0500
TZOFFSETTO:-0400
TZNAME:EDT
DTSTART:20230312T070000
END:DAYLIGHT
BEGIN:STANDARD
TZOFFSETFROM:-0400
TZOFFSETTO:-0500
TZNAME:EST
DTSTART:20231105T060000
END:STANDARD
BEGIN:DAYLIGHT
TZOFFSETFROM:-0500
TZOFFSETTO:-0400
TZNAME:EDT
DTSTART:20240310T070000
END:DAYLIGHT
BEGIN:STANDARD
TZOFFSETFROM:-0400
TZOFFSETTO:-0500
TZNAME:EST
DTSTART:20241103T060000
END:STANDARD
BEGIN:DAYLIGHT
TZOFFSETFROM:-0500
TZOFFSETTO:-0400
TZNAME:EDT
DTSTART:20250309T070000
END:DAYLIGHT
BEGIN:STANDARD
TZOFFSETFROM:-0400
TZOFFSETTO:-0500
TZNAME:EST
DTSTART:20251102T060000
END:STANDARD
END:VTIMEZONE
BEGIN:VEVENT
DTSTART;TZID=America/New_York:20240806T150000
DTEND;TZID=America/New_York:20240806T160000
DTSTAMP:20260420T040552
CREATED:20230907T162957Z
LAST-MODIFIED:20230927T033316Z
UID:10000605-1722956400-1722960000@mccnh.edu
SUMMARY:General Information Session
DESCRIPTION:General information sessions are for anyone interested in learning more about attending MCC and are held  every Tuesday promptly at 3pm in the Office of Admissions. To learn more\, call (603) 206-8100 or email  MCCAdmissions@ccsnh.edu.
URL:https://mccnh.edu/event/general-information-session/2024-08-06/
LOCATION:Office of Admissions\, 1066 Front Street\, Manchester\, NH\, 03102\, United States
CATEGORIES:General Calendar
GEO:43.0190476;-71.4841072
X-APPLE-STRUCTURED-LOCATION;VALUE=URI;X-ADDRESS=Office of Admissions 1066 Front Street Manchester NH 03102 United States;X-APPLE-RADIUS=500;X-TITLE=1066 Front Street:geo:-71.4841072,43.0190476
END:VEVENT
BEGIN:VEVENT
DTSTART;TZID=America/New_York:20240806T150000
DTEND;TZID=America/New_York:20240806T160000
DTSTAMP:20260420T040552
CREATED:20240613T162713Z
LAST-MODIFIED:20240702T132719Z
UID:10001810-1722956400-1722960000@mccnh.edu
SUMMARY:LPN to RN Nursing Information Session\, On Campus Only
DESCRIPTION:In an effort to provide you with the most current and comprehensive information about our programs\, we require prospective nursing students attend a Nursing Information Session.* \nThis Information Session is Live and In-Person on the MCC Campus. \nInformation regarding pre-reqs\, the admissions process\, the entrance exam\, academic requirements (nursing and general education)\, and competitive ranking is covered in detail during the session. Participants will receive the necessary paperwork to apply for admission and will have the opportunity to ask questions. A follow up individual appointment may be scheduled if necessary. \n\nThere is no fee to attend and registration is not required.\nThe LPN to RN program is an advanced placement program for currently licensed LPNs only.\nMCC does not offer an LPN program.\n\n—– \n*Please check your Information Session location carefully before attending!  \n\nSome sessions are in-person on campus only and held live at MCC.\nSome sessions are virtual only via Zoom (link provided in the listing).\nSome sessions are offered as a combination\, with both live and virtual/Zoom attendance options for the same event.
URL:https://mccnh.edu/event/lpn-to-rn-nursing-information-session-on-campus-only/
LOCATION:Nursing Lab Room 321\, 1066 Front Street\, Manchester\, NH\, 03102\, United States
CATEGORIES:General Calendar
ORGANIZER;CN="Jacquie Poirier":MAILTO:jpoirier@ccsnh.edu
GEO:43.0190476;-71.4841072
X-APPLE-STRUCTURED-LOCATION;VALUE=URI;X-ADDRESS=Nursing Lab Room 321 1066 Front Street Manchester NH 03102 United States;X-APPLE-RADIUS=500;X-TITLE=1066 Front Street:geo:-71.4841072,43.0190476
END:VEVENT
END:VCALENDAR