BEGIN:VCALENDAR
VERSION:2.0
PRODID:-//Manchester Community College NH - ECPv6.15.20//NONSGML v1.0//EN
CALSCALE:GREGORIAN
METHOD:PUBLISH
X-WR-CALNAME:Manchester Community College NH
X-ORIGINAL-URL:https://mccnh.edu
X-WR-CALDESC:Events for Manchester Community College NH
REFRESH-INTERVAL;VALUE=DURATION:PT1H
X-Robots-Tag:noindex
X-PUBLISHED-TTL:PT1H
BEGIN:VTIMEZONE
TZID:America/New_York
BEGIN:DAYLIGHT
TZOFFSETFROM:-0500
TZOFFSETTO:-0400
TZNAME:EDT
DTSTART:20250309T070000
END:DAYLIGHT
BEGIN:STANDARD
TZOFFSETFROM:-0400
TZOFFSETTO:-0500
TZNAME:EST
DTSTART:20251102T060000
END:STANDARD
BEGIN:DAYLIGHT
TZOFFSETFROM:-0500
TZOFFSETTO:-0400
TZNAME:EDT
DTSTART:20260308T070000
END:DAYLIGHT
BEGIN:STANDARD
TZOFFSETFROM:-0400
TZOFFSETTO:-0500
TZNAME:EST
DTSTART:20261101T060000
END:STANDARD
BEGIN:DAYLIGHT
TZOFFSETFROM:-0500
TZOFFSETTO:-0400
TZNAME:EDT
DTSTART:20270314T070000
END:DAYLIGHT
BEGIN:STANDARD
TZOFFSETFROM:-0400
TZOFFSETTO:-0500
TZNAME:EST
DTSTART:20271107T060000
END:STANDARD
END:VTIMEZONE
BEGIN:VEVENT
DTSTART;TZID=America/New_York:20260422T160000
DTEND;TZID=America/New_York:20260422T170000
DTSTAMP:20260422T233350
CREATED:20250407T144811Z
LAST-MODIFIED:20250407T144811Z
UID:10002105-1776873600-1776877200@mccnh.edu
SUMMARY:LPN to RN Nursing Information Session - On Campus During Open House
DESCRIPTION:This information session is in-person on the MCC campus during the open house. \nInformation regarding pre-reqs\, the admissions process\, the entrance exam\, academic requirements (nursing and general education)\, and competitive ranking is covered in detail during the session. Participants will receive the necessary paperwork to apply for admission and will have the opportunity to ask questions. A follow up individual appointment may be scheduled if necessary. \n\nThere is no fee to attend and registration is not required.\nThe LPN to RN program is an advanced placement program for currently licensed LPNs only.\nMCC does not offer an LPN program.
URL:https://mccnh.edu/event/lpn-to-rn-nursing-information-session-on-campus-during-open-house/2026-04-22/
LOCATION:Nursing Lab Room 321\, 1066 Front Street\, Manchester\, NH\, 03102\, United States
CATEGORIES:General Calendar
GEO:43.0190476;-71.4841072
X-APPLE-STRUCTURED-LOCATION;VALUE=URI;X-ADDRESS=Nursing Lab Room 321 1066 Front Street Manchester NH 03102 United States;X-APPLE-RADIUS=500;X-TITLE=1066 Front Street:geo:-71.4841072,43.0190476
END:VEVENT
BEGIN:VEVENT
DTSTART;TZID=America/New_York:20260422T160000
DTEND;TZID=America/New_York:20260422T170000
DTSTAMP:20260422T233350
CREATED:20251024T203407Z
LAST-MODIFIED:20251024T203407Z
UID:10003108-1776873600-1776877200@mccnh.edu
SUMMARY:New Student Onboarding Session
DESCRIPTION:Have you applied to MCC and have questions about getting started at Manchester Community College? Join MCC’s onboarding coach during open house to prepare for the upcoming semester. Information regarding claiming your student account\, setting appointments with your advisors\, how to pay tuition\, academic technology and getting connected to student support services will be discussed. Appointments to register for classes can be scheduled during the onboarding session. All programs welcome! No fee to attend and registration not required.
URL:https://mccnh.edu/event/new-student-onboarding-session/2026-04-22/1/
LOCATION:Library Lab 268M\, 1066 Front St\, Manchester\, 03102\, United States
CATEGORIES:General Calendar
GEO:43.0191984;-71.4849826
X-APPLE-STRUCTURED-LOCATION;VALUE=URI;X-ADDRESS=Library Lab 268M 1066 Front St Manchester 03102 United States;X-APPLE-RADIUS=500;X-TITLE=1066 Front St:geo:-71.4849826,43.0191984
END:VEVENT
BEGIN:VEVENT
DTSTART;TZID=America/New_York:20260422T160000
DTEND;TZID=America/New_York:20260422T180000
DTSTAMP:20260422T233350
CREATED:20260324T205544Z
LAST-MODIFIED:20260330T193155Z
UID:10002062-1776873600-1776880800@mccnh.edu
SUMMARY:Open House
DESCRIPTION:Please stop by Open House on April 22nd\nThe event runs from 4pm to 6pm\, and is set up to allow you to come by at any time\, and still have the opportunity to learn about multiple programs.\n\nWe also offer special information sessions that begin at the following times:\nAccessibilities (IEP\, 504\, accommodations): 4 PM and 5 PM\nNursing (LPN to RN for current LPNs): 4 PM\nPre-Nursing: 4:30 PM\nNursing (RN): 5 PM\nEarly College (current high school students): 4:15 PM and 5:15 PM\nFinancial Aid: 4:45 PM and 5:30 PM\n\nAll other academic program info sessions will begin at 4PM\, 4:30PM\, 5pm and 5:30pm followed by Q&A.\n\nIf you need directions to campus\, please see our website: https://mccnh.edu/contact/get-directions/
URL:https://mccnh.edu/event/open-house-7-2/
LOCATION:MCC Learning Commons / Library\, 1066 Front Street\, Manchester\, 03102\, United States
CATEGORIES:General Calendar
GEO:43.0190476;-71.4841072
X-APPLE-STRUCTURED-LOCATION;VALUE=URI;X-ADDRESS=MCC Learning Commons / Library 1066 Front Street Manchester 03102 United States;X-APPLE-RADIUS=500;X-TITLE=1066 Front Street:geo:-71.4841072,43.0190476
END:VEVENT
BEGIN:VEVENT
DTSTART;TZID=America/New_York:20260422T160000
DTEND;TZID=America/New_York:20260422T180000
DTSTAMP:20260422T233350
CREATED:20260408T192546Z
LAST-MODIFIED:20260408T192546Z
UID:10003246-1776873600-1776880800@mccnh.edu
SUMMARY:Fine Arts Show
DESCRIPTION:MCC Fine Arts invites you to their Senior Fine Arts Show on April 22nd\, from 4-6pm\, during Open House.\nThe artwork will be on display in the Kelly Marr Center (Room 244).
URL:https://mccnh.edu/event/fine-arts-show/
LOCATION:Kelly Marr Center (Room 244)
CATEGORIES:General Calendar,Student Calendar
END:VEVENT
BEGIN:VEVENT
DTSTART;TZID=America/New_York:20260422T170000
DTEND;TZID=America/New_York:20260422T180000
DTSTAMP:20260422T233350
CREATED:20250324T184656Z
LAST-MODIFIED:20250407T144358Z
UID:10002067-1776877200-1776880800@mccnh.edu
SUMMARY:RN Nursing Information Session - On Campus During Open House
DESCRIPTION:This information session is in-person on the MCC campus during the open house. \nInformation regarding pre-reqs\, the admissions process\, the entrance exam\, academic requirements (nursing and general education)\, and competitive ranking is covered in detail during the session. Participants will receive the necessary paperwork to apply for admission and will have the opportunity to ask questions. A follow up individual appointment may be scheduled if necessary. \n\nThere is no fee to attend and registration is not required.\nThe information session starts promptly at the posted time.\nPlease be a few minutes early as late arrivals will not be accommodated.\n\nStudents may complete the RN program on a part time basis\, however\, nursing and clinical components must be completed concurrently. Students graduate with an Associate degree of Science in Nursing and are eligible to take the RN state board exam. Students may continue on to a Bachelor of Science in Nursing at various four-year nursing programs.
URL:https://mccnh.edu/event/nursing-information-session-on-campus-during-open-house-2/2026-04-22/
LOCATION:Nursing Lab Room 321\, 1066 Front Street\, Manchester\, NH\, 03102\, United States
CATEGORIES:General Calendar
GEO:43.0190476;-71.4841072
X-APPLE-STRUCTURED-LOCATION;VALUE=URI;X-ADDRESS=Nursing Lab Room 321 1066 Front Street Manchester NH 03102 United States;X-APPLE-RADIUS=500;X-TITLE=1066 Front Street:geo:-71.4841072,43.0190476
END:VEVENT
BEGIN:VEVENT
DTSTART;TZID=America/New_York:20260422T170000
DTEND;TZID=America/New_York:20260422T180000
DTSTAMP:20260422T233350
CREATED:20251024T203407Z
LAST-MODIFIED:20251024T203407Z
UID:10003109-1776877200-1776880800@mccnh.edu
SUMMARY:New Student Onboarding Session
DESCRIPTION:Have you applied to MCC and have questions about getting started at Manchester Community College? Join MCC’s onboarding coach during open house to prepare for the upcoming semester. Information regarding claiming your student account\, setting appointments with your advisors\, how to pay tuition\, academic technology and getting connected to student support services will be discussed. Appointments to register for classes can be scheduled during the onboarding session. All programs welcome! No fee to attend and registration not required.
URL:https://mccnh.edu/event/new-student-onboarding-session/2026-04-22/2/
LOCATION:Library Lab 268M\, 1066 Front St\, Manchester\, 03102\, United States
CATEGORIES:General Calendar
GEO:43.0191984;-71.4849826
X-APPLE-STRUCTURED-LOCATION;VALUE=URI;X-ADDRESS=Library Lab 268M 1066 Front St Manchester 03102 United States;X-APPLE-RADIUS=500;X-TITLE=1066 Front St:geo:-71.4849826,43.0191984
END:VEVENT
BEGIN:VEVENT
DTSTART;TZID=America/New_York:20260423T093000
DTEND;TZID=America/New_York:20260423T163000
DTSTAMP:20260422T233350
CREATED:20260126T163643Z
LAST-MODIFIED:20260406T155302Z
UID:10003180-1776936600-1776961800@mccnh.edu
SUMMARY:SNA Red Cross Blood Drive
DESCRIPTION:Student Nurses Association (SNA) is hosting their fall blood drive on April 23rd from 9:30 AM to 4:30 PM in the MPR. If you’re interested in donating\, please go to the Red Cross website to make an appointment.
URL:https://mccnh.edu/event/sna-red-cross-blood-drive-3/
LOCATION:Manchester Community College MPR\, Manchester Community College\, 1066 Front Street\, Manchester\, NH\, 03102\, United States
CATEGORIES:General Calendar,Student Calendar
GEO:43.0189086;-71.4838349
X-APPLE-STRUCTURED-LOCATION;VALUE=URI;X-ADDRESS=Manchester Community College MPR Manchester Community College 1066 Front Street Manchester NH 03102 United States;X-APPLE-RADIUS=500;X-TITLE=Manchester Community College\, 1066 Front Street:geo:-71.4838349,43.0189086
END:VEVENT
BEGIN:VEVENT
DTSTART;TZID=America/New_York:20260425T093000
DTEND;TZID=America/New_York:20260425T120000
DTSTAMP:20260422T233350
CREATED:20260126T165021Z
LAST-MODIFIED:20260209T181528Z
UID:10003181-1777109400-1777118400@mccnh.edu
SUMMARY:MCC/SHP Build A Bed Day
DESCRIPTION:Join the MCC community for a hands-on volunteer Build Day with Sleep in Heavenly Peace. Help build bed components for local children who do not have beds of their own. Volunteers will work together to cut\, sand\, drill\, assemble\, stain\, and brand lumber to create bed frames that will later be delivered with new mattresses and bedding. This outdoor\, active event is a rewarding way to give back\, connect with others\, and make a meaningful impact in the community. \n\nNo experience needed.\n\nDate & Time: Saturday\, April 25\, 9:30am-12pm\nLocation: On MCC campus\, outdoors\n\nBuild Day is sponsored by the MCC Student Leadership Board and various corporate event sponsors.\n\nSign up: https://x.gldn.io/e/XUWzYk6JC0b
URL:https://mccnh.edu/event/mcc-shp-build-a-bed-day-2/
LOCATION:Manchester Community College\, 1066 Front Street\, Manchester\, 03102\, United States
CATEGORIES:Faculty/Staff Calendar,General Calendar,Student Calendar
ORGANIZER;CN="Aileen Clay":MAILTO:aclay@ccsnh.edu
GEO:43.0190476;-71.4841072
X-APPLE-STRUCTURED-LOCATION;VALUE=URI;X-ADDRESS=Manchester Community College 1066 Front Street Manchester 03102 United States;X-APPLE-RADIUS=500;X-TITLE=1066 Front Street:geo:-71.4841072,43.0190476
END:VEVENT
BEGIN:VEVENT
DTSTART;TZID=America/New_York:20260427T160000
DTEND;TZID=America/New_York:20260427T180000
DTSTAMP:20260422T233350
CREATED:20260403T192411Z
LAST-MODIFIED:20260403T192734Z
UID:10003242-1777305600-1777312800@mccnh.edu
SUMMARY:Automated Manufacturing Job Fair
DESCRIPTION:Automated Manufacturing Job Fair\nMonday\, April 27th  |  4-6pm\nHosted by MCC. \nThis free event is open to all MCC students and members of the general public who are seeking employment opportunities. Attendees will have the chance to meet one-on-one with employers\, learn more about their companies\, explore available positions\, and make valuable professional connections. Some employers may even extend on-the-spot job offers. Whether you are actively job searching or simply exploring career options\, this is a great opportunity to connect directly with employers who are hiring. We encourage all interested individuals to attend and take advantage of this exciting opportunity! \nTechnicians are needed in: \n\nAdvanced Manufacturing\nElectrical Engineering Technicians\nMechanical Engineering Technicians\nElectro-Mechanical Assembly\nIndustry Controls and Engineering\nMechatronics\nRobotics\n3D Printing\nAutomation\n\n  \nLearn about the NEW Automated Manufacturing Certificate at MCC: \n\nManufacturing Career Prep (CBAM101)\nSolidworks & 3D Printing (CBAM105)\nIndustrial Print Reading and Metrology (CBAM110)\nControl Fundamentals with Python (CBAM120)\nManufacturing Fundamentals (CBAM125)\nElectrical for Manufacturing (CBAM115)\n\n  \nFor more information\, please reach out to Shawn Kithcart skithcart@ccsnh.edu
URL:https://mccnh.edu/event/automated-manufacturing-job-fair-2/
LOCATION:NH
CATEGORIES:General Calendar,Student Calendar
END:VEVENT
BEGIN:VEVENT
DTSTART;TZID=America/New_York:20260429T120000
DTEND;TZID=America/New_York:20260429T150000
DTSTAMP:20260422T233350
CREATED:20260225T215257Z
LAST-MODIFIED:20260225T215257Z
UID:10003205-1777464000-1777474800@mccnh.edu
SUMMARY:Human Services Expo
DESCRIPTION:MCC’s 4th Human Services Expo will be held in the MPR on Wednesday\, April 29th from 12:00 PM to 3:00 PM. This event is open to the entire MCC Community as well as the general public in an effort to spread the word about Human Services as both a discipline of study and a career opportunity. \nThe New Hampshire Department of Health and Human Services (DHHS) and area Human Services agencies will participate in a speed-dating activity where attendees will go from table to table to learn about diverse types of work available in the field. They will engage in brief discussions and answer questions about their area of expertise. DHHS is one of the largest employers in the State of NH and they hire from all disciplines from HVAC to Electrical Technicians\, from Marketing to Nursing. Their Human Resources personnel will be available to discuss opportunities with students from all our programs and assist them with the application process so send your students to meet with them.
URL:https://mccnh.edu/event/human-services-expo/
LOCATION:Manchester Community College MPR\, Manchester Community College\, 1066 Front Street\, Manchester\, NH\, 03102\, United States
CATEGORIES:Faculty/Staff Calendar,General Calendar,Student Calendar
GEO:43.0189086;-71.4838349
X-APPLE-STRUCTURED-LOCATION;VALUE=URI;X-ADDRESS=Manchester Community College MPR Manchester Community College 1066 Front Street Manchester NH 03102 United States;X-APPLE-RADIUS=500;X-TITLE=Manchester Community College\, 1066 Front Street:geo:-71.4838349,43.0189086
END:VEVENT
BEGIN:VEVENT
DTSTART;TZID=America/New_York:20260430T160000
DTEND;TZID=America/New_York:20260430T180000
DTSTAMP:20260422T233350
CREATED:20260417T211728Z
LAST-MODIFIED:20260417T211728Z
UID:10003272-1777564800-1777572000@mccnh.edu
SUMMARY:A Reading & Celebration - Queen City Review and Readers Theater
DESCRIPTION:The Queen City Review in partnership with Readers Theatre presents: A Reading and Celebration! It will take place from 4 to 6 pm Thursday\, April 30 in The Pit\, outside the Multipurpose Room in MCC’s Main Building. The event will include readings from the May 2026 issue of the Queen City Review. Copies will be available for students.  Readers Theatre will read and perform the poems of Amanda Gorman. There will also be an Open Mic and refreshments.
URL:https://mccnh.edu/event/a-reading-celebration-queen-city-review-and-readers-theater/
LOCATION:MCC Student Center\, 1066 Front Street\, Manchester\, NH\, 03102\, United States
CATEGORIES:Faculty/Staff Calendar,General Calendar,Student Calendar
GEO:43.0190476;-71.4841072
X-APPLE-STRUCTURED-LOCATION;VALUE=URI;X-ADDRESS=MCC Student Center 1066 Front Street Manchester NH 03102 United States;X-APPLE-RADIUS=500;X-TITLE=1066 Front Street:geo:-71.4841072,43.0190476
END:VEVENT
END:VCALENDAR