BEGIN:VCALENDAR
VERSION:2.0
PRODID:-//Manchester Community College NH - ECPv6.15.20//NONSGML v1.0//EN
CALSCALE:GREGORIAN
METHOD:PUBLISH
X-ORIGINAL-URL:https://mccnh.edu
X-WR-CALDESC:Events for Manchester Community College NH
REFRESH-INTERVAL;VALUE=DURATION:PT1H
X-Robots-Tag:noindex
X-PUBLISHED-TTL:PT1H
BEGIN:VTIMEZONE
TZID:America/New_York
BEGIN:DAYLIGHT
TZOFFSETFROM:-0500
TZOFFSETTO:-0400
TZNAME:EDT
DTSTART:20250309T070000
END:DAYLIGHT
BEGIN:STANDARD
TZOFFSETFROM:-0400
TZOFFSETTO:-0500
TZNAME:EST
DTSTART:20251102T060000
END:STANDARD
BEGIN:DAYLIGHT
TZOFFSETFROM:-0500
TZOFFSETTO:-0400
TZNAME:EDT
DTSTART:20260308T070000
END:DAYLIGHT
BEGIN:STANDARD
TZOFFSETFROM:-0400
TZOFFSETTO:-0500
TZNAME:EST
DTSTART:20261101T060000
END:STANDARD
BEGIN:DAYLIGHT
TZOFFSETFROM:-0500
TZOFFSETTO:-0400
TZNAME:EDT
DTSTART:20270314T070000
END:DAYLIGHT
BEGIN:STANDARD
TZOFFSETFROM:-0400
TZOFFSETTO:-0500
TZNAME:EST
DTSTART:20271107T060000
END:STANDARD
END:VTIMEZONE
BEGIN:VEVENT
DTSTART;TZID=America/New_York:20260430T160000
DTEND;TZID=America/New_York:20260430T180000
DTSTAMP:20260422T162006
CREATED:20260417T211728Z
LAST-MODIFIED:20260417T211728Z
UID:10003272-1777564800-1777572000@mccnh.edu
SUMMARY:A Reading & Celebration - Queen City Review and Readers Theater
DESCRIPTION:The Queen City Review in partnership with Readers Theatre presents: A Reading and Celebration! It will take place from 4 to 6 pm Thursday\, April 30 in The Pit\, outside the Multipurpose Room in MCC’s Main Building. The event will include readings from the May 2026 issue of the Queen City Review. Copies will be available for students.  Readers Theatre will read and perform the poems of Amanda Gorman. There will also be an Open Mic and refreshments.
URL:https://mccnh.edu/event/a-reading-celebration-queen-city-review-and-readers-theater/
LOCATION:MCC Student Center\, 1066 Front Street\, Manchester\, NH\, 03102\, United States
CATEGORIES:Faculty/Staff Calendar,General Calendar,Student Calendar
GEO:43.0190476;-71.4841072
X-APPLE-STRUCTURED-LOCATION;VALUE=URI;X-ADDRESS=MCC Student Center 1066 Front Street Manchester NH 03102 United States;X-APPLE-RADIUS=500;X-TITLE=1066 Front Street:geo:-71.4841072,43.0190476
END:VEVENT
BEGIN:VEVENT
DTSTART;TZID=America/New_York:20260501T180000
DTEND;TZID=America/New_York:20260501T210000
DTSTAMP:20260422T162006
CREATED:20260126T165356Z
LAST-MODIFIED:20260126T165408Z
UID:10003182-1777658400-1777669200@mccnh.edu
SUMMARY:Spotlight on Leadership
DESCRIPTION:Student Senate announces that the 26th Annual Spotlight on Leadership will be held on Friday May 1st at 6 PM at the Derryfield Event Center. All MCC students who were involved in MCC Clubs and Organizations this academic year are invited via their club\, along with their club advisors\, This special end-of-the year event celebrates student leadership and involvement. Each club provides a year-end highlight and selects an MVP and Rising Star. Each year Club Awards are presented to the Club of the Year\, Rising Star Club of the Year and Humanitarian Club of the Year. Their club’s name will be added to the plaques outside of the Student Center. Any faculty or staff member who is not a club advisor\, but interested in attending\, please connect with Aileen at aclay@ccsnh.edu. All are welcome to join us\, but we will request $25 toward the cost of the meal.
URL:https://mccnh.edu/event/spotlight-on-leadership-3/
LOCATION:Derryfield Event Center\, 625 Mammoth Rd\, Manchester\, NH\, 03104\, United States
CATEGORIES:Faculty/Staff Calendar,Student Calendar
ORGANIZER;CN="Aileen Clay":MAILTO:aclay@ccsnh.edu
GEO:42.9933234;-71.4334836
X-APPLE-STRUCTURED-LOCATION;VALUE=URI;X-ADDRESS=Derryfield Event Center 625 Mammoth Rd Manchester NH 03104 United States;X-APPLE-RADIUS=500;X-TITLE=625 Mammoth Rd:geo:-71.4334836,42.9933234
END:VEVENT
BEGIN:VEVENT
DTSTART;TZID=America/New_York:20260511T093000
DTEND;TZID=America/New_York:20260511T103000
DTSTAMP:20260422T162006
CREATED:20250821T144638Z
LAST-MODIFIED:20260416T211524Z
UID:10003260-1778491800-1778495400@mccnh.edu
SUMMARY:TEAS Exam
DESCRIPTION:In-person proctoring for the online TEAS exam for pre-nursing students. \nPre-registration is required. Sign-ups can be done through Navigate\, or by calling 603-206-8140.
URL:https://mccnh.edu/event/teas-exam/2026-05-11/
CATEGORIES:General Calendar,Student Calendar
ORGANIZER;CN="Academic Advising Center":MAILTO:MCCAcademicAdvising@ccsnh.edu
END:VEVENT
BEGIN:VEVENT
DTSTART;TZID=America/New_York:20260513T180000
DTEND;TZID=America/New_York:20260513T200000
DTSTAMP:20260422T162006
CREATED:20260319T142542Z
LAST-MODIFIED:20260415T165114Z
UID:10003219-1778695200-1778702400@mccnh.edu
SUMMARY:Evening of Excellence
DESCRIPTION:The Evening of Excellence is an evening where MCC honors recipients of its Academic Program Achievement Awards\, each of our Excellence Awards in Resilience & Inspiration\, Visionary Leadership and Community Impact and The Vice President’s Student Award. This year’s Event will be held at 6 PM on Tuesday\, May 12th\, at the Derryfield Restaurant located at 625 Mammoth Road in Manchester\, NH. \n·     This is an invitation-only event – invites with an RSVP link will be sent out the week of April 14th \n·     It is a business casual event with a sit-down\, catered dinner and cash bar. \n·     The presenter of the award to the nominee may attend for free. \n·     The presenter will be called to the podium to say a few words about the nominee. \n·     The nominee will be presented with their award(s) and photos will be taken. \n·     Any faculty of a department that has a nominee may attend\, even if they are not a presenter\, for the fee of $25/person. (Checks should be made out to Manchester Community College and delivered to Kathy Moody in Academic Affairs.)
URL:https://mccnh.edu/event/evening-of-excellence-3/
LOCATION:Derryfield Country Club\, 625 Mammoth Rd\, Manchester\, 03104\, United States
CATEGORIES:Faculty/Staff Calendar,Student Calendar
ORGANIZER;CN="MCC Academic Affairs":MAILTO:kmoody@ccsnh.edu
GEO:42.9933234;-71.4334836
X-APPLE-STRUCTURED-LOCATION;VALUE=URI;X-ADDRESS=Derryfield Country Club 625 Mammoth Rd Manchester 03104 United States;X-APPLE-RADIUS=500;X-TITLE=625 Mammoth Rd:geo:-71.4334836,42.9933234
END:VEVENT
BEGIN:VEVENT
DTSTART;TZID=America/New_York:20260514T130000
DTEND;TZID=America/New_York:20260514T160000
DTSTAMP:20260422T162006
CREATED:20260218T190427Z
LAST-MODIFIED:20260223T150218Z
UID:10003189-1778763600-1778774400@mccnh.edu
SUMMARY:Accepted Students Day (ASD)
DESCRIPTION:Sign Up to Attend this Special Event For Newly Admitted Students! \nNow that you have been admitted to MCC your next step is to attend Accepted Student Day (ASD)\, an event specifically for new students. \nMeet with your advisor*\, register for classes\, get help with student accounts\, speak with financial aid and learn about payment options\, student support and accessibility services\, get your student ID\, and take home some free swag! Granite Edvance will be available for financial aid and FAFSA support. \nRSVP: https://ccsnh.my.salesforce-sites.com/events#/esr?eid=a12Up000002XE6HIAW  \n  \n**Nursing\, Line Workers\, and Automotive programs will have their own events for registration. Incoming students in these programs are welcome to attend for assistance with Easy Logins\, to get ID\, help with FAFSAs\, and to attend the workshops\, but advisors will not be available to do registration for these programs during the event.
URL:https://mccnh.edu/event/accepted-students-day-asd-2/
LOCATION:MCC Learning Commons / Library\, 1066 Front Street\, Manchester\, 03102\, United States
CATEGORIES:Academic Calendar,General Calendar,Student Calendar
ORGANIZER;CN="Lindsay Conway":MAILTO:lconway@ccsnh.edu
GEO:43.0190476;-71.4841072
X-APPLE-STRUCTURED-LOCATION;VALUE=URI;X-ADDRESS=MCC Learning Commons / Library 1066 Front Street Manchester 03102 United States;X-APPLE-RADIUS=500;X-TITLE=1066 Front Street:geo:-71.4841072,43.0190476
END:VEVENT
BEGIN:VEVENT
DTSTART;TZID=America/New_York:20260515T120000
DTEND;TZID=America/New_York:20260515T140000
DTSTAMP:20260422T162006
CREATED:20260126T165809Z
LAST-MODIFIED:20260126T165809Z
UID:10003183-1778846400-1778853600@mccnh.edu
SUMMARY:Grad Fest
DESCRIPTION:Congratulations class of 2026! Celebrate your upcoming graduation with food and fun activities in the student center. \nPick up your cap and gown\, Honor cords/other cords/sashes\, and some alumni swag then decorate your cap and play some games. \nShare tips for the incoming class and find out plans for “what’s next” after graduation.
URL:https://mccnh.edu/event/grad-fest-3/
LOCATION:Student Center\, 1066 Front Street\, Manchester\, NH\, 03102\, United States
CATEGORIES:Student Calendar
GEO:43.0190476;-71.4841072
X-APPLE-STRUCTURED-LOCATION;VALUE=URI;X-ADDRESS=Student Center 1066 Front Street Manchester NH 03102 United States;X-APPLE-RADIUS=500;X-TITLE=1066 Front Street:geo:-71.4841072,43.0190476
END:VEVENT
BEGIN:VEVENT
DTSTART;TZID=America/New_York:20260518T180000
DTEND;TZID=America/New_York:20260518T200000
DTSTAMP:20260422T162006
CREATED:20260126T170621Z
LAST-MODIFIED:20260126T170621Z
UID:10003184-1779127200-1779134400@mccnh.edu
SUMMARY:Nurse Pinning
DESCRIPTION:
URL:https://mccnh.edu/event/nurse-pinning-2/
LOCATION:Manchester Community College MPR\, Manchester Community College\, 1066 Front Street\, Manchester\, NH\, 03102\, United States
CATEGORIES:General Calendar,Student Calendar
GEO:43.0189086;-71.4838349
X-APPLE-STRUCTURED-LOCATION;VALUE=URI;X-ADDRESS=Manchester Community College MPR Manchester Community College 1066 Front Street Manchester NH 03102 United States;X-APPLE-RADIUS=500;X-TITLE=Manchester Community College\, 1066 Front Street:geo:-71.4838349,43.0189086
END:VEVENT
BEGIN:VEVENT
DTSTART;TZID=America/New_York:20260521T093000
DTEND;TZID=America/New_York:20260521T103000
DTSTAMP:20260422T162006
CREATED:20250821T144638Z
LAST-MODIFIED:20260416T211524Z
UID:10003261-1779355800-1779359400@mccnh.edu
SUMMARY:TEAS Exam
DESCRIPTION:In-person proctoring for the online TEAS exam for pre-nursing students. \nPre-registration is required. Sign-ups can be done through Navigate\, or by calling 603-206-8140.
URL:https://mccnh.edu/event/teas-exam/2026-05-21/
CATEGORIES:General Calendar,Student Calendar
ORGANIZER;CN="Academic Advising Center":MAILTO:MCCAcademicAdvising@ccsnh.edu
END:VEVENT
BEGIN:VEVENT
DTSTART;TZID=America/New_York:20260526T093000
DTEND;TZID=America/New_York:20260526T103000
DTSTAMP:20260422T162006
CREATED:20250821T144638Z
LAST-MODIFIED:20260416T211524Z
UID:10003262-1779787800-1779791400@mccnh.edu
SUMMARY:TEAS Exam
DESCRIPTION:In-person proctoring for the online TEAS exam for pre-nursing students. \nPre-registration is required. Sign-ups can be done through Navigate\, or by calling 603-206-8140.
URL:https://mccnh.edu/event/teas-exam/2026-05-26/
CATEGORIES:General Calendar,Student Calendar
ORGANIZER;CN="Academic Advising Center":MAILTO:MCCAcademicAdvising@ccsnh.edu
END:VEVENT
BEGIN:VEVENT
DTSTART;VALUE=DATE:20260601
DTEND;VALUE=DATE:20260602
DTSTAMP:20260422T162006
CREATED:20260409T200750Z
LAST-MODIFIED:20260409T202920Z
UID:10003247-1780272000-1780358399@mccnh.edu
SUMMARY:Financial Aid Workshop
DESCRIPTION:Come in for help with financial aid – help completing or finishing your FAFSA\, understanding and accepting your award\, or any other aid-related questions. \nAppointment times at: \n\nNoon\n1pm\n2pm\n3pm\n\n  \nRegister: https://ccsnh.my.salesforce-sites.com/events#/esr?eid=a12Up000002bVeoIAE
URL:https://mccnh.edu/event/financial-aid-workshop/
CATEGORIES:Student Calendar
END:VEVENT
BEGIN:VEVENT
DTSTART;VALUE=DATE:20260602
DTEND;VALUE=DATE:20260603
DTSTAMP:20260422T162006
CREATED:20260409T200858Z
LAST-MODIFIED:20260409T202956Z
UID:10003248-1780358400-1780444799@mccnh.edu
SUMMARY:Transfer Workshop
DESCRIPTION:Learn about transfer basics with MCC’s Transfer Counselor and two of our local partners; UNH-Manchester and SNHU. \nArrival times at: \n\nNoon\n1pm\n\n  \nRegister: https://ccsnh.my.salesforce-sites.com/events#/esr?eid=a12Up000002bVeoIAE
URL:https://mccnh.edu/event/transfer-workshop/
CATEGORIES:Student Calendar
END:VEVENT
BEGIN:VEVENT
DTSTART;TZID=America/New_York:20260602T093000
DTEND;TZID=America/New_York:20260602T103000
DTSTAMP:20260422T162006
CREATED:20250821T144638Z
LAST-MODIFIED:20260416T211524Z
UID:10003263-1780392600-1780396200@mccnh.edu
SUMMARY:TEAS Exam
DESCRIPTION:In-person proctoring for the online TEAS exam for pre-nursing students. \nPre-registration is required. Sign-ups can be done through Navigate\, or by calling 603-206-8140.
URL:https://mccnh.edu/event/teas-exam/2026-06-02/
CATEGORIES:General Calendar,Student Calendar
ORGANIZER;CN="Academic Advising Center":MAILTO:MCCAcademicAdvising@ccsnh.edu
END:VEVENT
BEGIN:VEVENT
DTSTART;VALUE=DATE:20260603
DTEND;VALUE=DATE:20260604
DTSTAMP:20260422T162006
CREATED:20260409T201023Z
LAST-MODIFIED:20260409T204920Z
UID:10003249-1780444800-1780531199@mccnh.edu
SUMMARY:Academic Technology Workshop
DESCRIPTION:Learn how to access and navigate your student accounts. Learn the basics of SIS\, Canvas\, Navigate\, and school email. \nArrival times: \n\nNoon\n1pm\n2pm\n3pm\n\n  \nRegister: https://ccsnh.my.salesforce-sites.com/events#/esr?eid=a12Up000002bVeoIAE
URL:https://mccnh.edu/event/academic-technology-workshop/
CATEGORIES:Student Calendar
END:VEVENT
BEGIN:VEVENT
DTSTART;VALUE=DATE:20260604
DTEND;VALUE=DATE:20260605
DTSTAMP:20260422T162006
CREATED:20260409T201146Z
LAST-MODIFIED:20260409T205132Z
UID:10003250-1780531200-1780617599@mccnh.edu
SUMMARY:Campus Resources Workshop and Walk Your Schedule
DESCRIPTION:Come tour the building\, find your classrooms and key areas of the building\, and learn about the various resources available to students. \nArrival times \n\nNoon\n1pm\n2pm\n3pm\n\n  \nRegister: https://ccsnh.my.salesforce-sites.com/events#/esr?eid=a12Up000002bVeoIAE
URL:https://mccnh.edu/event/campus-resources-workshop-and-walk-your-schedule/
CATEGORIES:Student Calendar
END:VEVENT
BEGIN:VEVENT
DTSTART;TZID=America/New_York:20260608T093000
DTEND;TZID=America/New_York:20260608T103000
DTSTAMP:20260422T162006
CREATED:20250821T144638Z
LAST-MODIFIED:20260416T211524Z
UID:10003264-1780911000-1780914600@mccnh.edu
SUMMARY:TEAS Exam
DESCRIPTION:In-person proctoring for the online TEAS exam for pre-nursing students. \nPre-registration is required. Sign-ups can be done through Navigate\, or by calling 603-206-8140.
URL:https://mccnh.edu/event/teas-exam/2026-06-08/
CATEGORIES:General Calendar,Student Calendar
ORGANIZER;CN="Academic Advising Center":MAILTO:MCCAcademicAdvising@ccsnh.edu
END:VEVENT
BEGIN:VEVENT
DTSTART;TZID=America/New_York:20260616T093000
DTEND;TZID=America/New_York:20260616T103000
DTSTAMP:20260422T162006
CREATED:20250821T144638Z
LAST-MODIFIED:20260416T211524Z
UID:10003265-1781602200-1781605800@mccnh.edu
SUMMARY:TEAS Exam
DESCRIPTION:In-person proctoring for the online TEAS exam for pre-nursing students. \nPre-registration is required. Sign-ups can be done through Navigate\, or by calling 603-206-8140.
URL:https://mccnh.edu/event/teas-exam/2026-06-16/
CATEGORIES:General Calendar,Student Calendar
ORGANIZER;CN="Academic Advising Center":MAILTO:MCCAcademicAdvising@ccsnh.edu
END:VEVENT
BEGIN:VEVENT
DTSTART;TZID=America/New_York:20260622T093000
DTEND;TZID=America/New_York:20260622T103000
DTSTAMP:20260422T162006
CREATED:20250821T144638Z
LAST-MODIFIED:20260416T211524Z
UID:10003266-1782120600-1782124200@mccnh.edu
SUMMARY:TEAS Exam
DESCRIPTION:In-person proctoring for the online TEAS exam for pre-nursing students. \nPre-registration is required. Sign-ups can be done through Navigate\, or by calling 603-206-8140.
URL:https://mccnh.edu/event/teas-exam/2026-06-22/
CATEGORIES:General Calendar,Student Calendar
ORGANIZER;CN="Academic Advising Center":MAILTO:MCCAcademicAdvising@ccsnh.edu
END:VEVENT
BEGIN:VEVENT
DTSTART;TZID=America/New_York:20260702T093000
DTEND;TZID=America/New_York:20260702T103000
DTSTAMP:20260422T162006
CREATED:20250821T144638Z
LAST-MODIFIED:20260416T211524Z
UID:10003267-1782984600-1782988200@mccnh.edu
SUMMARY:TEAS Exam
DESCRIPTION:In-person proctoring for the online TEAS exam for pre-nursing students. \nPre-registration is required. Sign-ups can be done through Navigate\, or by calling 603-206-8140.
URL:https://mccnh.edu/event/teas-exam/2026-07-02/
CATEGORIES:General Calendar,Student Calendar
ORGANIZER;CN="Academic Advising Center":MAILTO:MCCAcademicAdvising@ccsnh.edu
END:VEVENT
BEGIN:VEVENT
DTSTART;VALUE=DATE:20260706
DTEND;VALUE=DATE:20260707
DTSTAMP:20260422T162006
CREATED:20260409T201330Z
LAST-MODIFIED:20260409T205232Z
UID:10003251-1783296000-1783382399@mccnh.edu
SUMMARY:Academic Technology Workshop
DESCRIPTION:Learn how to access and navigate your student accounts. Learn the basics of SIS\, Canvas\, Navigate\, and school email. \nArrival times: \n\nNoon\n1pm\n2pm\n3pm\n\n  \nRegister: https://ccsnh.my.salesforce-sites.com/events#/esr?eid=a12Up000002d0bhIAA
URL:https://mccnh.edu/event/academic-technology-workshop-2/
CATEGORIES:Student Calendar
END:VEVENT
BEGIN:VEVENT
DTSTART;TZID=America/New_York:20260706T093000
DTEND;TZID=America/New_York:20260706T103000
DTSTAMP:20260422T162006
CREATED:20250821T144638Z
LAST-MODIFIED:20260416T211524Z
UID:10003268-1783330200-1783333800@mccnh.edu
SUMMARY:TEAS Exam
DESCRIPTION:In-person proctoring for the online TEAS exam for pre-nursing students. \nPre-registration is required. Sign-ups can be done through Navigate\, or by calling 603-206-8140.
URL:https://mccnh.edu/event/teas-exam/2026-07-06/
CATEGORIES:General Calendar,Student Calendar
ORGANIZER;CN="Academic Advising Center":MAILTO:MCCAcademicAdvising@ccsnh.edu
END:VEVENT
BEGIN:VEVENT
DTSTART;VALUE=DATE:20260707
DTEND;VALUE=DATE:20260708
DTSTAMP:20260422T162006
CREATED:20260409T201439Z
LAST-MODIFIED:20260409T205303Z
UID:10003252-1783382400-1783468799@mccnh.edu
SUMMARY:Campus Resources Workshop and Walk Your Schedule
DESCRIPTION:Come tour the building\, find your classrooms and key areas of the building\, and learn about the various resources available to students. \nArrival times \n\nNoon\n1pm\n2pm\n3pm\n\n  \nRegister: https://ccsnh.my.salesforce-sites.com/events#/esr?eid=a12Up000002d0bhIAA
URL:https://mccnh.edu/event/campus-resources-workshop-and-walk-your-schedule-2/
CATEGORIES:Student Calendar
END:VEVENT
BEGIN:VEVENT
DTSTART;VALUE=DATE:20260708
DTEND;VALUE=DATE:20260709
DTSTAMP:20260422T162006
CREATED:20260409T201648Z
LAST-MODIFIED:20260409T205328Z
UID:10003255-1783468800-1783555199@mccnh.edu
SUMMARY:Transfer Workshop
DESCRIPTION:Learn about transfer basics with MCC’s Transfer Counselor and two of our local partners; UNH-Manchester and SNHU. \nArrival times at: \n\nNoon\n1pm\n\n  \nRegister: https://ccsnh.my.salesforce-sites.com/events#/esr?eid=a12Up000002d0bhIAA
URL:https://mccnh.edu/event/transfer-workshop-2/
CATEGORIES:Student Calendar
END:VEVENT
BEGIN:VEVENT
DTSTART;VALUE=DATE:20260709
DTEND;VALUE=DATE:20260710
DTSTAMP:20260422T162006
CREATED:20260409T201849Z
LAST-MODIFIED:20260409T205406Z
UID:10003257-1783555200-1783641599@mccnh.edu
SUMMARY:Financial Aid Workshop
DESCRIPTION:Come in for help with financial aid – help completing or finishing your FAFSA\, understanding and accepting your award\, or any other aid-related questions. \nAppointment times at: \n\nNoon\n1pm\n2pm\n3pm\n\n  \nRegister: https://ccsnh.my.salesforce-sites.com/events#/esr?eid=a12Up000002d0bhIAA
URL:https://mccnh.edu/event/financial-aid-workshop-2/
CATEGORIES:Student Calendar
END:VEVENT
BEGIN:VEVENT
DTSTART;TZID=America/New_York:20260714T093000
DTEND;TZID=America/New_York:20260714T103000
DTSTAMP:20260422T162006
CREATED:20250821T144638Z
LAST-MODIFIED:20260416T211524Z
UID:10003269-1784021400-1784025000@mccnh.edu
SUMMARY:TEAS Exam
DESCRIPTION:In-person proctoring for the online TEAS exam for pre-nursing students. \nPre-registration is required. Sign-ups can be done through Navigate\, or by calling 603-206-8140.
URL:https://mccnh.edu/event/teas-exam/2026-07-14/
CATEGORIES:General Calendar,Student Calendar
ORGANIZER;CN="Academic Advising Center":MAILTO:MCCAcademicAdvising@ccsnh.edu
END:VEVENT
BEGIN:VEVENT
DTSTART;TZID=America/New_York:20260720T093000
DTEND;TZID=America/New_York:20260720T103000
DTSTAMP:20260422T162006
CREATED:20250821T144638Z
LAST-MODIFIED:20260416T211524Z
UID:10003270-1784539800-1784543400@mccnh.edu
SUMMARY:TEAS Exam
DESCRIPTION:In-person proctoring for the online TEAS exam for pre-nursing students. \nPre-registration is required. Sign-ups can be done through Navigate\, or by calling 603-206-8140.
URL:https://mccnh.edu/event/teas-exam/2026-07-20/
CATEGORIES:General Calendar,Student Calendar
ORGANIZER;CN="Academic Advising Center":MAILTO:MCCAcademicAdvising@ccsnh.edu
END:VEVENT
BEGIN:VEVENT
DTSTART;TZID=America/New_York:20260730T093000
DTEND;TZID=America/New_York:20260730T103000
DTSTAMP:20260422T162006
CREATED:20250821T144638Z
LAST-MODIFIED:20260416T211524Z
UID:10003271-1785403800-1785407400@mccnh.edu
SUMMARY:TEAS Exam
DESCRIPTION:In-person proctoring for the online TEAS exam for pre-nursing students. \nPre-registration is required. Sign-ups can be done through Navigate\, or by calling 603-206-8140.
URL:https://mccnh.edu/event/teas-exam/2026-07-30/
CATEGORIES:General Calendar,Student Calendar
ORGANIZER;CN="Academic Advising Center":MAILTO:MCCAcademicAdvising@ccsnh.edu
END:VEVENT
BEGIN:VEVENT
DTSTART;VALUE=DATE:20260810
DTEND;VALUE=DATE:20260811
DTSTAMP:20260422T162006
CREATED:20260409T201459Z
LAST-MODIFIED:20260409T205726Z
UID:10003253-1786320000-1786406399@mccnh.edu
SUMMARY:Campus Resources Workshop and Walk Your Schedule
DESCRIPTION:Come tour the building\, find your classrooms and key areas of the building\, and learn about the various resources available to students. \nArrival times \n\nNoon\n1pm\n2pm\n3pm\n\n  \nRegister: https://ccsnh.my.salesforce-sites.com/events#/esr?eid=a12Up000002d0gXIAQ
URL:https://mccnh.edu/event/campus-resources-workshop-and-walk-your-schedule-3/
CATEGORIES:Student Calendar
END:VEVENT
BEGIN:VEVENT
DTSTART;VALUE=DATE:20260811
DTEND;VALUE=DATE:20260812
DTSTAMP:20260422T162006
CREATED:20260409T201551Z
LAST-MODIFIED:20260409T205804Z
UID:10003254-1786406400-1786492799@mccnh.edu
SUMMARY:Academic Technology Workshop
DESCRIPTION:Learn how to access and navigate your student accounts. Learn the basics of SIS\, Canvas\, Navigate\, and school email. \nArrival times: \n\nNoon\n1pm\n2pm\n3pm\n\n  \nRegister: https://ccsnh.my.salesforce-sites.com/events#/esr?eid=a12Up000002d0gXIAQ
URL:https://mccnh.edu/event/academic-technology-workshop-3/
CATEGORIES:Student Calendar
END:VEVENT
BEGIN:VEVENT
DTSTART;VALUE=DATE:20260812
DTEND;VALUE=DATE:20260813
DTSTAMP:20260422T162006
CREATED:20260409T201949Z
LAST-MODIFIED:20260409T210031Z
UID:10003258-1786492800-1786579199@mccnh.edu
SUMMARY:Financial Aid Workshop
DESCRIPTION:Come in for help with financial aid – help completing or finishing your FAFSA\, understanding and accepting your award\, or any other aid-related questions. \nAppointment times at: \n\nNoon\n1pm\n2pm\n3pm\n\n  \nRegister: https://ccsnh.my.salesforce-sites.com/events#/esr?eid=a12Up000002d0gXIAQ
URL:https://mccnh.edu/event/financial-aid-workshop-3/
CATEGORIES:Student Calendar
END:VEVENT
BEGIN:VEVENT
DTSTART;VALUE=DATE:20260813
DTEND;VALUE=DATE:20260814
DTSTAMP:20260422T162006
CREATED:20260409T201714Z
LAST-MODIFIED:20260409T210324Z
UID:10003256-1786579200-1786665599@mccnh.edu
SUMMARY:Transfer Workshop
DESCRIPTION:Learn about transfer basics with MCC’s Transfer Counselor and two of our local partners; UNH-Manchester and SNHU. \nArrival times at: \n\nNoon\n1pm\n\n  \nRegister: https://ccsnh.my.salesforce-sites.com/events#/esr?eid=a12Up000002d0gXIAQ
URL:https://mccnh.edu/event/transfer-workshop-3/
CATEGORIES:Student Calendar
END:VEVENT
END:VCALENDAR