BEGIN:VCALENDAR
VERSION:2.0
PRODID:-//Manchester Community College NH - ECPv6.15.20//NONSGML v1.0//EN
CALSCALE:GREGORIAN
METHOD:PUBLISH
X-WR-CALNAME:Manchester Community College NH
X-ORIGINAL-URL:https://mccnh.edu
X-WR-CALDESC:Events for Manchester Community College NH
REFRESH-INTERVAL;VALUE=DURATION:PT1H
X-Robots-Tag:noindex
X-PUBLISHED-TTL:PT1H
BEGIN:VTIMEZONE
TZID:America/New_York
BEGIN:DAYLIGHT
TZOFFSETFROM:-0500
TZOFFSETTO:-0400
TZNAME:EDT
DTSTART:20240310T070000
END:DAYLIGHT
BEGIN:STANDARD
TZOFFSETFROM:-0400
TZOFFSETTO:-0500
TZNAME:EST
DTSTART:20241103T060000
END:STANDARD
BEGIN:DAYLIGHT
TZOFFSETFROM:-0500
TZOFFSETTO:-0400
TZNAME:EDT
DTSTART:20250309T070000
END:DAYLIGHT
BEGIN:STANDARD
TZOFFSETFROM:-0400
TZOFFSETTO:-0500
TZNAME:EST
DTSTART:20251102T060000
END:STANDARD
BEGIN:DAYLIGHT
TZOFFSETFROM:-0500
TZOFFSETTO:-0400
TZNAME:EDT
DTSTART:20260308T070000
END:DAYLIGHT
BEGIN:STANDARD
TZOFFSETFROM:-0400
TZOFFSETTO:-0500
TZNAME:EST
DTSTART:20261101T060000
END:STANDARD
END:VTIMEZONE
BEGIN:VEVENT
DTSTART;TZID=America/New_York:20251004T090000
DTEND;TZID=America/New_York:20251004T140000
DTSTAMP:20260421T093820
CREATED:20250915T154400Z
LAST-MODIFIED:20250915T154400Z
UID:10003033-1759568400-1759586400@mccnh.edu
SUMMARY:Pass Along Project - Fall Clothes for Kids Sorting Event
DESCRIPTION:This October we will continue our longstanding service tradition of supporting foster youth by partnering with the Pass Along Project to host their fall Clothes for Kids sorting event. The event will take place from 5 PM to 8 PM on Friday Oct 3rd\, and 9 AM to 2 PM on Saturday Oct 4th in the MPR. MCC students\, faculty\, staff\, and friends will be joined by community volunteers from Pass Along Project as we sort and size new and gently used children’s clothing. The Pass Along project provides a complete clothing kit to NH children as they enter foster care\, at no cost. Most recently our MCC SNA was actively involved in supporting the Pass Along Project’s winter gift drive for foster kids. Please mark your calendar and lend a hand if you can. Sign up info will follow. Visit this site to learn more about the important work of this non-profit organization.
URL:https://mccnh.edu/event/pass-along-project-fall-clothes-for-kids-sorting-event/2025-10-04/
LOCATION:Manchester Community College MPR\, Manchester Community College\, 1066 Front Street\, Manchester\, NH\, 03102\, United States
CATEGORIES:Faculty/Staff Calendar,General Calendar,Student Calendar
GEO:43.0189086;-71.4838349
X-APPLE-STRUCTURED-LOCATION;VALUE=URI;X-ADDRESS=Manchester Community College MPR Manchester Community College 1066 Front Street Manchester NH 03102 United States;X-APPLE-RADIUS=500;X-TITLE=Manchester Community College\, 1066 Front Street:geo:-71.4838349,43.0189086
END:VEVENT
BEGIN:VEVENT
DTSTART;TZID=America/New_York:20251006T093000
DTEND;TZID=America/New_York:20251006T103000
DTSTAMP:20260421T093820
CREATED:20250821T144638Z
LAST-MODIFIED:20260416T211524Z
UID:10003017-1759743000-1759746600@mccnh.edu
SUMMARY:TEAS Exam
DESCRIPTION:In-person proctoring for the online TEAS exam for pre-nursing students. \nPre-registration is required. Sign-ups can be done through Navigate\, or by calling 603-206-8140.
URL:https://mccnh.edu/event/teas-exam/2025-10-06/
LOCATION:NH
CATEGORIES:General Calendar,Student Calendar
ORGANIZER;CN="Academic Advising Center":MAILTO:MCCAcademicAdvising@ccsnh.edu
END:VEVENT
BEGIN:VEVENT
DTSTART;TZID=America/New_York:20251006T130000
DTEND;TZID=America/New_York:20251006T150000
DTSTAMP:20260421T093820
CREATED:20250925T180008Z
LAST-MODIFIED:20250925T180008Z
UID:10003044-1759755600-1759762800@mccnh.edu
SUMMARY:Staffing Agency Visit: AKLU
DESCRIPTION:
URL:https://mccnh.edu/event/staffing-agency-visit-aklu/
LOCATION:MCC Student Center\, 1066 Front Street\, Manchester\, NH\, 03102\, United States
CATEGORIES:Student Calendar
GEO:43.0190476;-71.4841072
X-APPLE-STRUCTURED-LOCATION;VALUE=URI;X-ADDRESS=MCC Student Center 1066 Front Street Manchester NH 03102 United States;X-APPLE-RADIUS=500;X-TITLE=1066 Front Street:geo:-71.4841072,43.0190476
END:VEVENT
BEGIN:VEVENT
DTSTART;TZID=America/New_York:20251006T160000
DTEND;TZID=America/New_York:20251006T200000
DTSTAMP:20260421T093820
CREATED:20250929T145622Z
LAST-MODIFIED:20250929T145622Z
UID:10003057-1759766400-1759780800@mccnh.edu
SUMMARY:Pickleball
DESCRIPTION:
URL:https://mccnh.edu/event/pickleball-3/2025-10-06/
LOCATION:Manchester Community College MPR\, Manchester Community College\, 1066 Front Street\, Manchester\, NH\, 03102\, United States
CATEGORIES:Athletics Calendar,Faculty/Staff Calendar,Fitness Center Calendar,Student Calendar
GEO:43.0189086;-71.4838349
X-APPLE-STRUCTURED-LOCATION;VALUE=URI;X-ADDRESS=Manchester Community College MPR Manchester Community College 1066 Front Street Manchester NH 03102 United States;X-APPLE-RADIUS=500;X-TITLE=Manchester Community College\, 1066 Front Street:geo:-71.4838349,43.0189086
END:VEVENT
BEGIN:VEVENT
DTSTART;VALUE=DATE:20251007
DTEND;VALUE=DATE:20251008
DTSTAMP:20260421T093820
CREATED:20250805T171630Z
LAST-MODIFIED:20250805T171630Z
UID:10002959-1759795200-1759881599@mccnh.edu
SUMMARY:Last Day to Withdraw with a "WP" or "WF" Grade from a First 8-Week Term Class
DESCRIPTION:
URL:https://mccnh.edu/event/last-day-to-withdraw-with-a-wp-or-wf-grade-from-a-first-8-week-term-class/
LOCATION:NH
CATEGORIES:Academic Calendar
END:VEVENT
BEGIN:VEVENT
DTSTART;TZID=America/New_York:20251008T113000
DTEND;TZID=America/New_York:20251008T133000
DTSTAMP:20260421T093820
CREATED:20250922T185226Z
LAST-MODIFIED:20250929T190316Z
UID:10003039-1759923000-1759930200@mccnh.edu
SUMMARY:Ghosts and Gadgets
DESCRIPTION:MCC Library and Student Life Present: Make & Take Ghosts & Gadgets.\nOctober 8th 11:30am-1:30pm in the Student Center \nA spooky sensory crafting adventure. Ghost-themed crafts\, homemade fidgets and festive fall snacks. Free for MCC Students.
URL:https://mccnh.edu/event/make-take-ghosts-gadgets/
LOCATION:MCC Student Center\, 1066 Front Street\, Manchester\, NH\, 03102\, United States
CATEGORIES:Student Calendar
GEO:43.0190476;-71.4841072
X-APPLE-STRUCTURED-LOCATION;VALUE=URI;X-ADDRESS=MCC Student Center 1066 Front Street Manchester NH 03102 United States;X-APPLE-RADIUS=500;X-TITLE=1066 Front Street:geo:-71.4841072,43.0190476
END:VEVENT
BEGIN:VEVENT
DTSTART;TZID=America/New_York:20251013T160000
DTEND;TZID=America/New_York:20251013T200000
DTSTAMP:20260421T093820
CREATED:20250929T145622Z
LAST-MODIFIED:20250929T145622Z
UID:10003058-1760371200-1760385600@mccnh.edu
SUMMARY:Pickleball
DESCRIPTION:
URL:https://mccnh.edu/event/pickleball-3/2025-10-13/
LOCATION:Manchester Community College MPR\, Manchester Community College\, 1066 Front Street\, Manchester\, NH\, 03102\, United States
CATEGORIES:Athletics Calendar,Faculty/Staff Calendar,Fitness Center Calendar,Student Calendar
GEO:43.0189086;-71.4838349
X-APPLE-STRUCTURED-LOCATION;VALUE=URI;X-ADDRESS=Manchester Community College MPR Manchester Community College 1066 Front Street Manchester NH 03102 United States;X-APPLE-RADIUS=500;X-TITLE=Manchester Community College\, 1066 Front Street:geo:-71.4838349,43.0189086
END:VEVENT
BEGIN:VEVENT
DTSTART;TZID=America/New_York:20251014T093000
DTEND;TZID=America/New_York:20251014T103000
DTSTAMP:20260421T093820
CREATED:20250821T144638Z
LAST-MODIFIED:20260416T211524Z
UID:10003018-1760434200-1760437800@mccnh.edu
SUMMARY:TEAS Exam
DESCRIPTION:In-person proctoring for the online TEAS exam for pre-nursing students. \nPre-registration is required. Sign-ups can be done through Navigate\, or by calling 603-206-8140.
URL:https://mccnh.edu/event/teas-exam/2025-10-14/
LOCATION:NH
CATEGORIES:General Calendar,Student Calendar
ORGANIZER;CN="Academic Advising Center":MAILTO:MCCAcademicAdvising@ccsnh.edu
END:VEVENT
BEGIN:VEVENT
DTSTART;TZID=America/New_York:20251014T110000
DTEND;TZID=America/New_York:20251014T130000
DTSTAMP:20260421T093820
CREATED:20250925T180100Z
LAST-MODIFIED:20250925T180100Z
UID:10003045-1760439600-1760446800@mccnh.edu
SUMMARY:College Visit: UNH Manchester
DESCRIPTION:
URL:https://mccnh.edu/event/college-visit-unh-manchester/
LOCATION:MCC Student Center\, 1066 Front Street\, Manchester\, NH\, 03102\, United States
CATEGORIES:Student Calendar
GEO:43.0190476;-71.4841072
X-APPLE-STRUCTURED-LOCATION;VALUE=URI;X-ADDRESS=MCC Student Center 1066 Front Street Manchester NH 03102 United States;X-APPLE-RADIUS=500;X-TITLE=1066 Front Street:geo:-71.4841072,43.0190476
END:VEVENT
BEGIN:VEVENT
DTSTART;TZID=America/New_York:20251015T120000
DTEND;TZID=America/New_York:20251015T140000
DTSTAMP:20260421T093820
CREATED:20251009T140553Z
LAST-MODIFIED:20251009T140553Z
UID:10003093-1760529600-1760536800@mccnh.edu
SUMMARY:Learn to Sculpt Your Own Monsters
DESCRIPTION:
URL:https://mccnh.edu/event/learn-to-sculpt-your-own-monsters/
LOCATION:MCC Student Center\, 1066 Front Street\, Manchester\, NH\, 03102\, United States
CATEGORIES:Student Calendar
ORGANIZER;CN="Kim Kulesza":MAILTO:kkulesza@ccsnh.edu
GEO:43.0190476;-71.4841072
X-APPLE-STRUCTURED-LOCATION;VALUE=URI;X-ADDRESS=MCC Student Center 1066 Front Street Manchester NH 03102 United States;X-APPLE-RADIUS=500;X-TITLE=1066 Front Street:geo:-71.4841072,43.0190476
END:VEVENT
BEGIN:VEVENT
DTSTART;TZID=America/New_York:20251016T120000
DTEND;TZID=America/New_York:20251016T130000
DTSTAMP:20260421T093820
CREATED:20250715T162334Z
LAST-MODIFIED:20250404T162439Z
UID:10002094-1760616000-1760619600@mccnh.edu
SUMMARY:Nursing Application Process Overview Session
DESCRIPTION:Prospective Nursing program applicants are invited to join us remotely via Zoom to learn more about the process of applying to our Nursing program.\nThe Nursing information sessions are held promptly at the starting times listed\, please log on a few minutes early. All participants are asked to turn on video for sessions offered via Zoom. The zoom link will be emailed to you after registration. \nRegister: https://ccsnh.my.salesforce-sites.com/events#/esr?eid=a12Up000001RfL3IAK
URL:https://mccnh.edu/event/nursing-application-process-overview-session-6/
LOCATION:NH
CATEGORIES:General Calendar
END:VEVENT
BEGIN:VEVENT
DTSTART;TZID=America/New_York:20251016T120000
DTEND;TZID=America/New_York:20251016T140000
DTSTAMP:20260421T093820
CREATED:20251002T194851Z
LAST-MODIFIED:20251002T194851Z
UID:10003084-1760616000-1760623200@mccnh.edu
SUMMARY:Pick-Up Volleyball
DESCRIPTION:Join Us for Indoor Volleyball Fun\nEveryone is welcome to play and enjoy some friendly competition!\nThursdays noon-2pm (October 16th – December 4th) in the MPR. \nInterested in playing? Contact jaube@ccsnh.edu
URL:https://mccnh.edu/event/pick-up-volleyball-4/2025-10-16/
LOCATION:Manchester Community College MPR\, Manchester Community College\, 1066 Front Street\, Manchester\, NH\, 03102\, United States
CATEGORIES:Athletics Calendar,Fitness Center Calendar,Student Calendar
ORGANIZER;CN="Jen Aube":MAILTO:jaube@ccsnh.edu
GEO:43.0189086;-71.4838349
X-APPLE-STRUCTURED-LOCATION;VALUE=URI;X-ADDRESS=Manchester Community College MPR Manchester Community College 1066 Front Street Manchester NH 03102 United States;X-APPLE-RADIUS=500;X-TITLE=Manchester Community College\, 1066 Front Street:geo:-71.4838349,43.0189086
END:VEVENT
BEGIN:VEVENT
DTSTART;TZID=America/New_York:20251016T150000
DTEND;TZID=America/New_York:20251016T160000
DTSTAMP:20260421T093820
CREATED:20250918T192403Z
LAST-MODIFIED:20250918T192808Z
UID:10003037-1760626800-1760630400@mccnh.edu
SUMMARY:Business Information Session
DESCRIPTION:Thursday\, October 16th\, from 3-4pm in the Department of Business Studies\, Suite #249.\nThis Business information session is for anyone interested in learning more about our Business programs. \nRSVP: https://ccsnh.my.salesforce-sites.com/events#/esr?eid=a12Up000001yRmLIAU
URL:https://mccnh.edu/event/business-information-session-4/
LOCATION:Suite 249\, 1066 Front Street\, Manchester\, NH\, 03102\, United States
CATEGORIES:General Calendar
ORGANIZER;CN="Jeremy Murphy":MAILTO:jmurphy@ccsnh.edu
GEO:43.0190476;-71.4841072
X-APPLE-STRUCTURED-LOCATION;VALUE=URI;X-ADDRESS=Suite 249 1066 Front Street Manchester NH 03102 United States;X-APPLE-RADIUS=500;X-TITLE=1066 Front Street:geo:-71.4841072,43.0190476
END:VEVENT
BEGIN:VEVENT
DTSTART;VALUE=DATE:20251018
DTEND;VALUE=DATE:20251019
DTSTAMP:20260421T093820
CREATED:20250805T171755Z
LAST-MODIFIED:20250805T171755Z
UID:10002960-1760745600-1760831999@mccnh.edu
SUMMARY:First 8-Week Term Classes End
DESCRIPTION:
URL:https://mccnh.edu/event/first-8-week-term-classes-end/
LOCATION:NH
CATEGORIES:Academic Calendar
END:VEVENT
BEGIN:VEVENT
DTSTART;VALUE=DATE:20251020
DTEND;VALUE=DATE:20251021
DTSTAMP:20260421T093820
CREATED:20250801T181454Z
LAST-MODIFIED:20250801T181805Z
UID:10002947-1760918400-1761004799@mccnh.edu
SUMMARY:Second 8-Week Term Fall Classes Begin
DESCRIPTION:
URL:https://mccnh.edu/event/8-week-term-fall-classes-begin/
LOCATION:NH
CATEGORIES:Academic Calendar
END:VEVENT
BEGIN:VEVENT
DTSTART;VALUE=DATE:20251020
DTEND;VALUE=DATE:20251021
DTSTAMP:20260421T093820
CREATED:20250925T180254Z
LAST-MODIFIED:20250925T180254Z
UID:10003047-1760918400-1761004799@mccnh.edu
SUMMARY:College Visit: Sacred Heart University
DESCRIPTION:
URL:https://mccnh.edu/event/college-visit-sacred-heart-university/
LOCATION:MCC Student Center\, 1066 Front Street\, Manchester\, NH\, 03102\, United States
CATEGORIES:Student Calendar
GEO:43.0190476;-71.4841072
X-APPLE-STRUCTURED-LOCATION;VALUE=URI;X-ADDRESS=MCC Student Center 1066 Front Street Manchester NH 03102 United States;X-APPLE-RADIUS=500;X-TITLE=1066 Front Street:geo:-71.4841072,43.0190476
END:VEVENT
BEGIN:VEVENT
DTSTART;TZID=America/New_York:20251020T160000
DTEND;TZID=America/New_York:20251020T200000
DTSTAMP:20260421T093820
CREATED:20250929T145622Z
LAST-MODIFIED:20250929T145622Z
UID:10003059-1760976000-1760990400@mccnh.edu
SUMMARY:Pickleball
DESCRIPTION:
URL:https://mccnh.edu/event/pickleball-3/2025-10-20/
LOCATION:Manchester Community College MPR\, Manchester Community College\, 1066 Front Street\, Manchester\, NH\, 03102\, United States
CATEGORIES:Athletics Calendar,Faculty/Staff Calendar,Fitness Center Calendar,Student Calendar
GEO:43.0189086;-71.4838349
X-APPLE-STRUCTURED-LOCATION;VALUE=URI;X-ADDRESS=Manchester Community College MPR Manchester Community College 1066 Front Street Manchester NH 03102 United States;X-APPLE-RADIUS=500;X-TITLE=Manchester Community College\, 1066 Front Street:geo:-71.4838349,43.0189086
END:VEVENT
BEGIN:VEVENT
DTSTART;TZID=America/New_York:20251021T110000
DTEND;TZID=America/New_York:20251021T130000
DTSTAMP:20260421T093820
CREATED:20250925T180205Z
LAST-MODIFIED:20250929T135829Z
UID:10003046-1761044400-1761051600@mccnh.edu
SUMMARY:College Visit: UMass Lowell
DESCRIPTION:
URL:https://mccnh.edu/event/college-visit-umass-lowell/
LOCATION:MCC Student Center\, 1066 Front Street\, Manchester\, NH\, 03102\, United States
CATEGORIES:Student Calendar
GEO:43.0190476;-71.4841072
X-APPLE-STRUCTURED-LOCATION;VALUE=URI;X-ADDRESS=MCC Student Center 1066 Front Street Manchester NH 03102 United States;X-APPLE-RADIUS=500;X-TITLE=1066 Front Street:geo:-71.4841072,43.0190476
END:VEVENT
BEGIN:VEVENT
DTSTART;TZID=America/New_York:20251021T120000
DTEND;TZID=America/New_York:20251021T130000
DTSTAMP:20260421T093820
CREATED:20251009T140910Z
LAST-MODIFIED:20251009T140910Z
UID:10003094-1761048000-1761051600@mccnh.edu
SUMMARY:"Voices of the Dead: A Legal History of Ghosts"
DESCRIPTION:
URL:https://mccnh.edu/event/voices-of-the-dead-a-legal-history-of-ghosts/
LOCATION:MCC Student Center\, 1066 Front Street\, Manchester\, NH\, 03102\, United States
CATEGORIES:Student Calendar
ORGANIZER;CN="Kim Kulesza":MAILTO:kkulesza@ccsnh.edu
GEO:43.0190476;-71.4841072
X-APPLE-STRUCTURED-LOCATION;VALUE=URI;X-ADDRESS=MCC Student Center 1066 Front Street Manchester NH 03102 United States;X-APPLE-RADIUS=500;X-TITLE=1066 Front Street:geo:-71.4841072,43.0190476
END:VEVENT
BEGIN:VEVENT
DTSTART;TZID=America/New_York:20251022T093000
DTEND;TZID=America/New_York:20251022T103000
DTSTAMP:20260421T093820
CREATED:20250821T144638Z
LAST-MODIFIED:20260416T211524Z
UID:10003019-1761125400-1761129000@mccnh.edu
SUMMARY:TEAS Exam
DESCRIPTION:In-person proctoring for the online TEAS exam for pre-nursing students. \nPre-registration is required. Sign-ups can be done through Navigate\, or by calling 603-206-8140.
URL:https://mccnh.edu/event/teas-exam/2025-10-22/
LOCATION:NH
CATEGORIES:General Calendar,Student Calendar
ORGANIZER;CN="Academic Advising Center":MAILTO:MCCAcademicAdvising@ccsnh.edu
END:VEVENT
BEGIN:VEVENT
DTSTART;TZID=America/New_York:20251022T120000
DTEND;TZID=America/New_York:20251022T133000
DTSTAMP:20260421T093820
CREATED:20251002T195728Z
LAST-MODIFIED:20251002T195728Z
UID:10003092-1761134400-1761139800@mccnh.edu
SUMMARY:Nutrition Workshop
DESCRIPTION:Nutrition Workshop\nFree for ALL students\, faculty and staff!\nWednesday\, October 22nd  |  Noon Presentation  |  12:30-1:30pm Q&A (drop-in)\nKELLY MARR CENTER (Room #244) \nDiscover the secrets to healthy eating habits learn how to make nutritional choices that fit your lifestyle and boost your energy. Learn from a registered dietitian\, ask questions\, and leave with simple tips!\nAny questions please contact: jaube@ccsnh.edu
URL:https://mccnh.edu/event/nutrition-workshop/
LOCATION:Kelly Marr Center (Room 244)
CATEGORIES:Faculty/Staff Calendar,Student Calendar
ORGANIZER;CN="Jen Aube":MAILTO:jaube@ccsnh.edu
END:VEVENT
BEGIN:VEVENT
DTSTART;TZID=America/New_York:20251023T120000
DTEND;TZID=America/New_York:20251023T140000
DTSTAMP:20260421T093820
CREATED:20251002T194851Z
LAST-MODIFIED:20251002T194851Z
UID:10003085-1761220800-1761228000@mccnh.edu
SUMMARY:Pick-Up Volleyball
DESCRIPTION:Join Us for Indoor Volleyball Fun\nEveryone is welcome to play and enjoy some friendly competition!\nThursdays noon-2pm (October 16th – December 4th) in the MPR. \nInterested in playing? Contact jaube@ccsnh.edu
URL:https://mccnh.edu/event/pick-up-volleyball-4/2025-10-23/
LOCATION:Manchester Community College MPR\, Manchester Community College\, 1066 Front Street\, Manchester\, NH\, 03102\, United States
CATEGORIES:Athletics Calendar,Fitness Center Calendar,Student Calendar
ORGANIZER;CN="Jen Aube":MAILTO:jaube@ccsnh.edu
GEO:43.0189086;-71.4838349
X-APPLE-STRUCTURED-LOCATION;VALUE=URI;X-ADDRESS=Manchester Community College MPR Manchester Community College 1066 Front Street Manchester NH 03102 United States;X-APPLE-RADIUS=500;X-TITLE=Manchester Community College\, 1066 Front Street:geo:-71.4838349,43.0189086
END:VEVENT
BEGIN:VEVENT
DTSTART;TZID=America/New_York:20251023T120000
DTEND;TZID=America/New_York:20251023T140000
DTSTAMP:20260421T093820
CREATED:20251002T195115Z
LAST-MODIFIED:20251002T195115Z
UID:10003091-1761220800-1761228000@mccnh.edu
SUMMARY:Breast Cancer Awareness Month
DESCRIPTION:Breast Cancer Awareness Month\nJoin us for snacks and giveaways on October 23 in the Student Center from noon-2pm.\nOur MCC student nurses will be sharing important information about self breast exam and other information about breast cancer.
URL:https://mccnh.edu/event/breast-cancer-awareness-month/
LOCATION:MCC Student Center\, 1066 Front Street\, Manchester\, NH\, 03102\, United States
CATEGORIES:Student Calendar
GEO:43.0190476;-71.4841072
X-APPLE-STRUCTURED-LOCATION;VALUE=URI;X-ADDRESS=MCC Student Center 1066 Front Street Manchester NH 03102 United States;X-APPLE-RADIUS=500;X-TITLE=1066 Front Street:geo:-71.4841072,43.0190476
END:VEVENT
BEGIN:VEVENT
DTSTART;TZID=America/New_York:20251023T161500
DTEND;TZID=America/New_York:20251023T171500
DTSTAMP:20260421T093820
CREATED:20250825T170420Z
LAST-MODIFIED:20250825T170420Z
UID:10003028-1761236100-1761239700@mccnh.edu
SUMMARY:Warrior Flow Yoga
DESCRIPTION:A representative from Humble Warrior will be leading an hour-long Warrior Flow yoga class each month. Warrior Flow Yoga is our foundational Power Vinyasa class and is ideal for all levels. The class provides a full-body\, well-rounded yoga experience. It has\na dynamic flow designed to challenge your balance\, energize your spirit\, and restore your soul. The focus is on integrating your body with your breath and increasing self-awareness. Warrior Flow is great for first time practitioners as well as those with an experienced practice. Mats will be available for use. \nClasses are FREE for students\,* faculty and staff!\n*Students must be enrolled in credit-bearing programs. Health History & Pre-Participation Form must be received before class.
URL:https://mccnh.edu/event/warrior-flow-yoga-3/2025-10-23/
LOCATION:Fitness Center\, 1066 Front Street\, Manchester\, 03102\, United States
CATEGORIES:Fitness Center Calendar
ORGANIZER;CN="Jen Aube":MAILTO:jaube@ccsnh.edu
GEO:43.0190476;-71.4841072
X-APPLE-STRUCTURED-LOCATION;VALUE=URI;X-ADDRESS=Fitness Center 1066 Front Street Manchester 03102 United States;X-APPLE-RADIUS=500;X-TITLE=1066 Front Street:geo:-71.4841072,43.0190476
END:VEVENT
BEGIN:VEVENT
DTSTART;TZID=America/New_York:20251023T170000
DTEND;TZID=America/New_York:20251023T180000
DTSTAMP:20260421T093820
CREATED:20250930T143238Z
LAST-MODIFIED:20250930T143238Z
UID:10003072-1761238800-1761242400@mccnh.edu
SUMMARY:Automotive Information Session
DESCRIPTION:You must attend an Information Session before you’re accepted into the Automotive program at MCC. Information Sessions are held in-person\, on campus at the Automotive Training Center. Each session provides the ability to tour our state-of-the-art automotive training facility\, speak with faculty\, and learn about the automotive program and available training pathways. \nFor more information about MCC automotive programs call (603) 206-8188 or email MCCAutomotive@ccsnh.edu.
URL:https://mccnh.edu/event/automotive-information-session-2/2025-10-23/
LOCATION:Automotive Training Center at MCC\, 1066 Front Street\, Manchester\, 03102\, United States
CATEGORIES:General Calendar
GEO:43.0190476;-71.4841072
X-APPLE-STRUCTURED-LOCATION;VALUE=URI;X-ADDRESS=Automotive Training Center at MCC 1066 Front Street Manchester 03102 United States;X-APPLE-RADIUS=500;X-TITLE=1066 Front Street:geo:-71.4841072,43.0190476
END:VEVENT
BEGIN:VEVENT
DTSTART;TZID=America/New_York:20251024T080000
DTEND;TZID=America/New_York:20251024T140000
DTSTAMP:20260421T093820
CREATED:20250923T193614Z
LAST-MODIFIED:20250923T194348Z
UID:10003040-1761292800-1761314400@mccnh.edu
SUMMARY:NHBEA 102nd Annual Conference
DESCRIPTION:Ignite Your Future in Business Education! Join us for workshops\, networking\, and sessions covering Marketing and AI\, Work Study Programs\, Early College in High School\, Accounting for the Future\, and much more. \nLearn more & register: nhbea.org/conference
URL:https://mccnh.edu/event/nhbea-102nd-annual-conference/
LOCATION:NH
CATEGORIES:General Calendar
END:VEVENT
BEGIN:VEVENT
DTSTART;TZID=America/New_York:20251025T080000
DTEND;TZID=America/New_York:20251025T150000
DTSTAMP:20260421T093820
CREATED:20250929T185637Z
LAST-MODIFIED:20250929T185637Z
UID:10003061-1761379200-1761404400@mccnh.edu
SUMMARY:V5 Robotics Event
DESCRIPTION:
URL:https://mccnh.edu/event/v5-robotics-event/
LOCATION:Trinity High School\, 581 Bridge St\, Manchester\, 03104\, United States
CATEGORIES:Student Calendar
ORGANIZER;CN="Dan LaRochelle":MAILTO:dlarochelle@ccsnh.edu
GEO:42.9951276;-71.4368009
X-APPLE-STRUCTURED-LOCATION;VALUE=URI;X-ADDRESS=Trinity High School 581 Bridge St Manchester 03104 United States;X-APPLE-RADIUS=500;X-TITLE=581 Bridge St:geo:-71.4368009,42.9951276
END:VEVENT
BEGIN:VEVENT
DTSTART;VALUE=DATE:20251027
DTEND;VALUE=DATE:20251028
DTSTAMP:20260421T093820
CREATED:20250805T171926Z
LAST-MODIFIED:20250805T171926Z
UID:10002961-1761523200-1761609599@mccnh.edu
SUMMARY:Last Day to Add/Drop a Second 8-Week Term Class with a Refund
DESCRIPTION:
URL:https://mccnh.edu/event/last-day-to-add-drop-a-second-8-week-term-class-with-a-refund/
LOCATION:NH
CATEGORIES:Academic Calendar
END:VEVENT
BEGIN:VEVENT
DTSTART;TZID=America/New_York:20251027T160000
DTEND;TZID=America/New_York:20251027T200000
DTSTAMP:20260421T093820
CREATED:20250929T145622Z
LAST-MODIFIED:20250929T145622Z
UID:10003060-1761580800-1761595200@mccnh.edu
SUMMARY:Pickleball
DESCRIPTION:
URL:https://mccnh.edu/event/pickleball-3/2025-10-27/
LOCATION:Manchester Community College MPR\, Manchester Community College\, 1066 Front Street\, Manchester\, NH\, 03102\, United States
CATEGORIES:Athletics Calendar,Faculty/Staff Calendar,Fitness Center Calendar,Student Calendar
GEO:43.0189086;-71.4838349
X-APPLE-STRUCTURED-LOCATION;VALUE=URI;X-ADDRESS=Manchester Community College MPR Manchester Community College 1066 Front Street Manchester NH 03102 United States;X-APPLE-RADIUS=500;X-TITLE=Manchester Community College\, 1066 Front Street:geo:-71.4838349,43.0189086
END:VEVENT
BEGIN:VEVENT
DTSTART;TZID=America/New_York:20251027T190000
DTEND;TZID=America/New_York:20251027T213000
DTSTAMP:20260421T093820
CREATED:20251027T210107Z
LAST-MODIFIED:20251027T210130Z
UID:10003111-1761591600-1761600600@mccnh.edu
SUMMARY:Comedy Night at Chunky's in Manchester - Global Health Club Fundraiser
DESCRIPTION:Join us at a Comedy Night at Chunky’s in Manchester to raise funds for the Global Health Club to provide free medial care to men\, women and children without access to or money for healthcare. \nTickets are $20. Buy them at https://my.cheddarup.com/c/chunkys-comedy-night-fundraiser-for-the-mcc-global-health-clu/items
URL:https://mccnh.edu/event/comedy-night-at-chunkys-in-manchester-global-health-club-fundraiser/
LOCATION:Chunky’s Cinema Pub\, 707 Huse Rd\, Manchester\, New Hampshire\, 03103
CATEGORIES:General Calendar
GEO:42.9515392;-71.4327193
X-APPLE-STRUCTURED-LOCATION;VALUE=URI;X-ADDRESS=Chunky’s Cinema Pub 707 Huse Rd Manchester New Hampshire 03103;X-APPLE-RADIUS=500;X-TITLE=707 Huse Rd:geo:-71.4327193,42.9515392
END:VEVENT
END:VCALENDAR